BEGIN:VCALENDAR
PRODID:NingEventWidget-v1
VERSION:2.0
METHOD:PUBLISH
BEGIN:VTIMEZONE
TZID:America/New_York
X-LIC-LOCATION:America/New_York
BEGIN:DAYLIGHT
TZOFFSETFROM:-0500
TZOFFSETTO:-0400
TZNAME:EDT
DTSTART:19700308T020000
RRULE:FREQ=YEARLY;BYMONTH=3;BYDAY=2SU
END:DAYLIGHT
BEGIN:STANDARD
TZOFFSETFROM:-0400
TZOFFSETTO:-0500
TZNAME:EST
DTSTART:19701101T020000
RRULE:FREQ=YEARLY;BYMONTH=11;BYDAY=1SU
END:STANDARD
END:VTIMEZONE
BEGIN:VEVENT
UID:5283893:Event:308243
DTSTAMP:20260422T183812Z
SUMMARY:Internet Sales 20 Group
DESCRIPTION:Its official everyone! We have locked in the Date, Time, L
 ocation and are currently working on the details for our upcoming Inte
 rnet Sales 20 Group!\nLet Me give you some of the highlights...\n\nThi
 s is a \"REAL\" 20 Group... An Internet Sales / Digital Marketing 20 G
 roup. Complete with Bench Mark Composites. I have spoken to over 75 NA
 DA & NCM 20 Groups, I have worked with current and former NADA / NCM M
 oderators as well as Dealer Principals to create the MOST Amazing Comp
 osite & Benchmark Data.\nI have a FULL Partner on the Actual Composite
 ... A Dealer Principal with over 27 years Automotive Experience!\nThe 
 FIRST 20 Dealerships to SIGN UP for this 20 Group Workshop (BEFORE Sep
 tember 15th) will receive a FREE SWOT Analysis:\nWe will conduct 2 dif
 ferent Mystery Shop Calls, record the MP3, GRADE the calls on BOTH qua
 ntitative and qualitative measures.\nWe will evaluate your dealership'
 s Social Media Relevancy\nWe will evaluate your website and create a \
 "punch-list\" to identify opportunities to evolve and enhance your sit
 e\nWe will analyze your dealer sip's online reputation\nWe will evalua
 te your dealership's SEO penetration and visibility....\nAnd some othe
 r important evaluations...\n\n\nWe have AMAZING High Level DEALERSHIP 
 Speakers... NATIONALLY RECOGNIZED!\nBill Finocchiaro - President of Pe
 ruzzi Toyota and COVER STORY for Auto Dealer Monthly Magazine. He took
  his store's Internet Department from 30+ units per month online to OV
 ER 117 units per month online!\nDurran Cage - General Sales Manager fo
 r Alan Vines Automotive... He will on the COVER of AutoSuccess Magazin
 e THIS SEPTEMBER!! He went from Chrysler OEM Rep, To and Intenret Mana
 ger selling 27 units per month to building his department to OVER 95 u
 nits per month and NOW he JUST got promoted to GSM!\nRobert Wiesman - 
 Nationally recognized by AutoSuccess Magazine for his profound interne
 t sales success as a SHOWROOM SALES CONSULTANT! He sells OVER 25-30 un
 its per month and has MORE visibility online than most dealerships!\n\
 n\nWe have Some INCREDIBLE Industry speakers in the roster:\nSusan Giv
 ens - Publisher of AutoSuccess Magazine\nCory Mosly\nAJ Leblanc / Car-
 Mercial\nCarsdirect\nPeter Martin - Cactus Sky\nFran Taylor\nStan Sher
 \nKaren Bradley - Dealer Synergy / FranklinCovey\nSean Bradley - Deale
 r Synergy / FranklinCovey\n\n\nWe are going to have an AMZING VIP Netw
 orking Cocktail Event & Dinner\n\n*** There is MUCH, MUCH more... I ju
 st wanted to give you a little teaser to what is coming. October seems
  a long time away BUT... it will come faster than we all realize.\nSo,
  PLEASE mark your calendars!\nMessage me if you have any questions!\nU
 PCOMING Internet Sales 20 Group - Mark Your Calendars... October 23rd,
  24th and 25th Downtown Chicago at the Hilton\nWEBSITE COMING SOON!\n\
 nFor more information visit https://www.dealerelite.net/events/interne
 t-sales-20-group
DTSTART;TZID=America/New_York:20121023T080000
DTEND;TZID=America/New_York:20121025T170000
CATEGORIES:educational
LOCATION:Hilton
WEBSITE:
URL:
CONTACT:
ORGANIZER;CN="Stan Sher":https://www.dealerelite.net/profile/StanSher8
 3
ATTACH;FMTTYPE="image/jpeg":http://storage.ning.com/topology/rest/1.0/
 file/get/2632954514?profile=original
ATTENDEE;ROLE=REQ-PARTICIPANT;PARTSTAT=ACCEPTED;RSVP=TRUE;CN="Stan She
 r":https://www.dealerelite.net/profile/StanSher83
ATTENDEE;ROLE=REQ-PARTICIPANT;PARTSTAT=TENTATIVE;RSVP=TRUE;CN="David B
 lassingame":https://www.dealerelite.net/profile/DavidBlassingame
ATTENDEE;ROLE=REQ-PARTICIPANT;PARTSTAT=TENTATIVE;RSVP=TRUE;CN="Ian Net
 hercott":https://www.dealerelite.net/profile/IanNethercott422
END:VEVENT
END:VCALENDAR
