BEGIN:VCALENDAR
PRODID:NingEventWidget-v1
VERSION:2.0
METHOD:PUBLISH
BEGIN:VTIMEZONE
TZID:America/New_York
X-LIC-LOCATION:America/New_York
BEGIN:DAYLIGHT
TZOFFSETFROM:-0500
TZOFFSETTO:-0400
TZNAME:EDT
DTSTART:19700308T020000
RRULE:FREQ=YEARLY;BYMONTH=3;BYDAY=2SU
END:DAYLIGHT
BEGIN:STANDARD
TZOFFSETFROM:-0400
TZOFFSETTO:-0500
TZNAME:EST
DTSTART:19701101T020000
RRULE:FREQ=YEARLY;BYMONTH=11;BYDAY=1SU
END:STANDARD
END:VTIMEZONE
BEGIN:VEVENT
UID:5283893:Event:132503
DTSTAMP:20260419T185035Z
SUMMARY:J.D. Power 2011 Automotive Internet Roundtable
DESCRIPTION:Join J.D. Power and your fellow automotive marketing pros
 , industry experts and thought leaders for the premier automotive di
 gital marketing event, featuring:\n\n\n\nKeynote presentation from Bla
 ke Irving, EVP & Chief Product officer for Yahoo!  \nLeading-edge in
 fo & presentations on digital marketing in the automotive marketpla
 ce \n\nOpportunities to meet and network with 1000+ industry profess
 ionals \n\nThe latest industry updates and online marketing performan
 ce metrics from exclusive J.D. Power benchmarking studies\n\n\n\nPLA
 N TO STAY LATE ON THURSDAY because we have a jam-packed two days plann
 ed followed by Thursday evening sponsor-hosted events you won't want
  to miss.\n\nCOME A DAY EARLY and join us for a Meet-and-Greet recept
 ion from 7-9pm on Tuesday. You'll have the chance to check in early 
 and avoid the Wednesday morning line.\n\n\nFor more information visit
  https://www.dealerelite.net/events/jd-power-2011-automotive
DTSTART;TZID=America/New_York:20111012T000000
DTEND;TZID=America/New_York:20111013T235900
CATEGORIES:conference
LOCATION:Red Rock Casino, Resort and Spa; Las Vegas, NV
WEBSITE:http://businesscenter.jdpower.com/Events.aspx?f=/jdpacontent/c
 orpcomm/Events/AutoInternetRoundtable/AutomotiveInternetRoundtable_Reg
 istration.htm
URL:http://businesscenter.jdpower.com/Events.aspx?f=/jdpacontent/corpc
 omm/Events/AutoInternetRoundtable/AutomotiveInternetRoundtable_Registr
 ation.htm
CONTACT:(805) 418-8607
ORGANIZER;CN="J.D. Power and Associates":https://www.dealerelite.net/p
 rofile/LeslieCocco
ATTACH;FMTTYPE="image/jpeg":http://storage.ning.com/topology/rest/1.0/
 file/get/2632916237?profile=original
ATTENDEE;ROLE=REQ-PARTICIPANT;PARTSTAT=ACCEPTED;RSVP=TRUE;CN=DealerELI
 TE:https://www.dealerelite.net/profile/ChrisandMike
ATTENDEE;ROLE=REQ-PARTICIPANT;PARTSTAT=ACCEPTED;RSVP=TRUE;CN="James A.
  Ziegler":https://www.dealerelite.net/profile/JamesAZiegler
ATTENDEE;ROLE=REQ-PARTICIPANT;PARTSTAT=ACCEPTED;RSVP=TRUE;CN="J.D. Pow
 er and Associates":https://www.dealerelite.net/profile/LeslieCocco
END:VEVENT
END:VCALENDAR
