BEGIN:VCALENDAR
PRODID:NingEventWidget-v1
VERSION:2.0
METHOD:PUBLISH
BEGIN:VTIMEZONE
TZID:America/New_York
X-LIC-LOCATION:America/New_York
BEGIN:DAYLIGHT
TZOFFSETFROM:-0500
TZOFFSETTO:-0400
TZNAME:EDT
DTSTART:19700308T020000
RRULE:FREQ=YEARLY;BYMONTH=3;BYDAY=2SU
END:DAYLIGHT
BEGIN:STANDARD
TZOFFSETFROM:-0400
TZOFFSETTO:-0500
TZNAME:EST
DTSTART:19701101T020000
RRULE:FREQ=YEARLY;BYMONTH=11;BYDAY=1SU
END:STANDARD
END:VTIMEZONE
BEGIN:VEVENT
UID:5283893:Event:328605
DTSTAMP:20260422T202349Z
SUMMARY:Johnnie Walker Blue VIP Party at Digital Dealer
DESCRIPTION:Invitation\n \nGood Scotch, Great Friends and Excellent C
 onversation await all who attend this years Johnnie Walker Blue Party 
 Hosted by SiSTeR Technologies and Driving Loyalty to celebrate the lau
 nch of their enhanced Video and Owner Loyalty solutions..\n\nClick on 
 the \"invitation\" to print an invitation with an RQ code to get the S
 uite number during the event.\n\nFor more information visit https://ww
 w.dealerelite.net/events/johnnie-walker-blue-vip-party-at-digital-deal
 er
DTSTART;TZID=America/New_York:20121023T200000
DTEND;TZID=America/New_York:20121024T020000
CATEGORIES:celebrating, new, technologies, for, 2013
LOCATION:The Mirage Hotel - Suite TBA at event
WEBSITE:http://www.videocarlot.tv/vcl/JWB_Party.html
URL:http://www.videocarlot.tv/vcl/JWB_Party.html
CONTACT:561-213-4300
ORGANIZER;CN="Philip Zelinger":https://www.dealerelite.net/profile/Phi
 lipZelinger
ATTACH;FMTTYPE="image/jpeg":http://storage.ning.com/topology/rest/1.0/
 file/get/2535834474?profile=original
ATTENDEE;ROLE=REQ-PARTICIPANT;PARTSTAT=ACCEPTED;RSVP=TRUE;CN="Ken Luna
 ":https://www.dealerelite.net/profile/KenLuna564
ATTENDEE;ROLE=REQ-PARTICIPANT;PARTSTAT=ACCEPTED;RSVP=TRUE;CN="Bob Sher
 man":https://www.dealerelite.net/profile/BobSherman
ATTENDEE;ROLE=REQ-PARTICIPANT;PARTSTAT=ACCEPTED;RSVP=TRUE;CN="Philip Z
 elinger":https://www.dealerelite.net/profile/PhilipZelinger
END:VEVENT
END:VCALENDAR
