BEGIN:VCALENDAR
PRODID:NingEventWidget-v1
VERSION:2.0
METHOD:PUBLISH
BEGIN:VTIMEZONE
TZID:America/New_York
X-LIC-LOCATION:America/New_York
BEGIN:DAYLIGHT
TZOFFSETFROM:-0500
TZOFFSETTO:-0400
TZNAME:EDT
DTSTART:19700308T020000
RRULE:FREQ=YEARLY;BYMONTH=3;BYDAY=2SU
END:DAYLIGHT
BEGIN:STANDARD
TZOFFSETFROM:-0400
TZOFFSETTO:-0500
TZNAME:EST
DTSTART:19701101T020000
RRULE:FREQ=YEARLY;BYMONTH=11;BYDAY=1SU
END:STANDARD
END:VTIMEZONE
BEGIN:VEVENT
UID:5283893:Event:212348
DTSTAMP:20260421T234653Z
SUMMARY:Lawsuits Waiting To Happen: The Top 10 Reasons Dealerships Get
  Sued By Employees
DESCRIPTION:This webinar will teach you how to avoid being sued by Emp
 loyees and go over current HR laws. Webinar presented by John Boggs, P
 artner with Fine, Boggs, and Perkins LLP.\n \nJoin John Boggs to lear
 n the top 10 reasons dealerships are sued by employees and how you can
  ensure this never happens to you. John will discuss the do and don’
 t of employee record keeping and training, why handbooks and policies 
 are so important and how to “bullet proof” your hiring and termina
 tion practices. Using real world examples and drawing on over 20 years
  of experience working with dealerships John will provide practical ad
 vice on how you can minimize your risk of a lawsuit and what to do if 
 you are sued.   \n\nFor more information visit https://www.dealereli
 te.net/events/lawsuits-waiting-to-happen-the-top-10-reasons-dealership
 s-get
DTSTART;TZID=America/New_York:20110908T094500
DTEND;TZID=America/New_York:20110908T110000
CATEGORIES:hr, webinar
LOCATION:Online Webinar
WEBSITE:http://go.kpaonline.com/LP=68?elqCampaignId=96
URL:http://go.kpaonline.com/LP=68?elqCampaignId=96
CONTACT:(866) 356-1735
ORGANIZER;CN="Brian Torrez":https://www.dealerelite.net/profile/BrianT
 orrez
ATTACH;FMTTYPE="image/jpeg":http://storage.ning.com/topology/rest/1.0/
 file/get/2632920931?profile=original
ATTENDEE;ROLE=REQ-PARTICIPANT;PARTSTAT=ACCEPTED;RSVP=TRUE;CN="Brian To
 rrez":https://www.dealerelite.net/profile/BrianTorrez
END:VEVENT
END:VCALENDAR
