BEGIN:VCALENDAR
PRODID:NingEventWidget-v1
VERSION:2.0
METHOD:PUBLISH
BEGIN:VTIMEZONE
TZID:America/New_York
X-LIC-LOCATION:America/New_York
BEGIN:DAYLIGHT
TZOFFSETFROM:-0500
TZOFFSETTO:-0400
TZNAME:EDT
DTSTART:19700308T020000
RRULE:FREQ=YEARLY;BYMONTH=3;BYDAY=2SU
END:DAYLIGHT
BEGIN:STANDARD
TZOFFSETFROM:-0400
TZOFFSETTO:-0500
TZNAME:EST
DTSTART:19701101T020000
RRULE:FREQ=YEARLY;BYMONTH=11;BYDAY=1SU
END:STANDARD
END:VTIMEZONE
BEGIN:VEVENT
UID:5283893:Event:327292
DTSTAMP:20260423T145218Z
SUMMARY:Mastering Menu Sales & Closing Tools Workshop!
DESCRIPTION:Announcing CCI Chernek Consulting:\nClosing Tools & Master
 ing Menu Selling Workshop- November 13th-14th & 15th- Atlanta, GA\nThe
  workshop is filled with the nuts and bolts of running an efficient F&
 I office increasing performance while reducing liability.  Get all yo
 ur managers on the same page.  Fee is $995.00 per seat! Contact 404-2
 76-4026 TODAY!\n\nFor more information visit https://www.dealerelite.n
 et/events/mastering-menu-sales-closing-tools-workshop
DTSTART;TZID=America/New_York:20121113T090000
DTEND;TZID=America/New_York:20121115T120000
CATEGORIES:"f&i", training
LOCATION:Atlanta, GA
WEBSITE:http://www.ccilearningcenter.com
URL:http://www.ccilearningcenter.com
CONTACT:404-276-4026
ORGANIZER;CN="Rebecca Chernek":https://www.dealerelite.net/profile/Reb
 eccaChernek
ATTACH;FMTTYPE="image/jpeg":http://storage.ning.com/topology/rest/1.0/
 file/get/2632956639?profile=original
ATTENDEE;ROLE=REQ-PARTICIPANT;PARTSTAT=ACCEPTED;RSVP=TRUE;CN="Rebecca 
 Chernek":https://www.dealerelite.net/profile/RebeccaChernek
END:VEVENT
END:VCALENDAR
