BEGIN:VCALENDAR
PRODID:NingEventWidget-v1
VERSION:2.0
METHOD:PUBLISH
BEGIN:VTIMEZONE
TZID:America/New_York
X-LIC-LOCATION:America/New_York
BEGIN:DAYLIGHT
TZOFFSETFROM:-0500
TZOFFSETTO:-0400
TZNAME:EDT
DTSTART:19700308T020000
RRULE:FREQ=YEARLY;BYMONTH=3;BYDAY=2SU
END:DAYLIGHT
BEGIN:STANDARD
TZOFFSETFROM:-0400
TZOFFSETTO:-0500
TZNAME:EST
DTSTART:19701101T020000
RRULE:FREQ=YEARLY;BYMONTH=11;BYDAY=1SU
END:STANDARD
END:VTIMEZONE
BEGIN:VEVENT
UID:5283893:Event:370694
DTSTAMP:20260422T111643Z
SUMMARY:Mastering Special Finance
DESCRIPTION:In this two-day NCM class, special finance expert Greg Goe
 bel shares his comprehensive plan to build and grow your special finan
 ce operation to return higher volume and greater profits for your deal
 ership. Students will learn the 10 components of a successful special 
 finance program, from matching your customers, finance companies and i
 nventory, to systems, advertising, engaging the customer, and more.An 
 exclusive feature of the training, Goebel will provide every student w
 ith a customized inventory review and finance company analysis.Registe
 r online at the link below. If you have questions call 866.756.2620 or
  complete the form to the right and an NCM Institute representative wi
 ll contact you.\n\nFor more information visit https://www.dealerelite.
 net/events/mastering-special-finance
DTSTART;TZID=America/New_York:20130612T080000
DTEND;TZID=America/New_York:20130613T190000
CATEGORIES:workshop
LOCATION:Kansas City, MO
WEBSITE:http://www.ncm20.com/NCMi/Course-Descriptions/Special-Finance.
 html
URL:http://www.ncm20.com/NCMi/Course-Descriptions/Special-Finance.html
CONTACT:866.756.2620
ORGANIZER;CN=Brett:https://www.dealerelite.net/profile/Brett
ATTACH;FMTTYPE="image/jpeg":http://storage.ning.com/topology/rest/1.0/
 file/get/2632975945?profile=original
ATTENDEE;ROLE=REQ-PARTICIPANT;PARTSTAT=ACCEPTED;RSVP=TRUE;CN=Brett:htt
 ps://www.dealerelite.net/profile/Brett
END:VEVENT
END:VCALENDAR
