BEGIN:VCALENDAR
PRODID:NingEventWidget-v1
VERSION:2.0
METHOD:PUBLISH
BEGIN:VTIMEZONE
TZID:America/New_York
X-LIC-LOCATION:America/New_York
BEGIN:DAYLIGHT
TZOFFSETFROM:-0500
TZOFFSETTO:-0400
TZNAME:EDT
DTSTART:19700308T020000
RRULE:FREQ=YEARLY;BYMONTH=3;BYDAY=2SU
END:DAYLIGHT
BEGIN:STANDARD
TZOFFSETFROM:-0400
TZOFFSETTO:-0500
TZNAME:EST
DTSTART:19701101T020000
RRULE:FREQ=YEARLY;BYMONTH=11;BYDAY=1SU
END:STANDARD
END:VTIMEZONE
BEGIN:VEVENT
UID:5283893:Event:246216
DTSTAMP:20260419T090603Z
SUMMARY:MuddTV Presents Social Media and New Technology
DESCRIPTION:Tullman will speak on the topics of social media and new t
 echnology. Howard’s topic will cover important new trends and the re
 cent changes in technology that are rewriting the ways every business 
 will connect to and interact with its customers from today forward. \
 nMudd Advertising would like to extend the invitation to anyone intere
 sted in hearing Tullman’s insight to join Mudd TV’s live stream of
  the event at www.muddtv.com on Friday, November 18 at 8:00 a.m.\n 
 \n\nFor more information visit https://www.dealerelite.net/events/mudd
 tv-presents-social-media-and-new-technology
DTSTART;TZID=America/New_York:20111118T080000
DTEND;TZID=America/New_York:20111118T093000
CATEGORIES:free, educational, webinar
LOCATION:Online www.MuddTV.com
WEBSITE:http://www.MuddTV.com
URL:http://www.MuddTV.com
CONTACT:3198599606
ORGANIZER;CN="Heather Wirtz":https://www.dealerelite.net/profile/Heath
 erWirtz
ATTACH;FMTTYPE="image/jpeg":
ATTENDEE;ROLE=REQ-PARTICIPANT;PARTSTAT=ACCEPTED;RSVP=TRUE;CN="Heather 
 Wirtz":https://www.dealerelite.net/profile/HeatherWirtz
END:VEVENT
END:VCALENDAR
