BEGIN:VCALENDAR
PRODID:NingEventWidget-v1
VERSION:2.0
METHOD:PUBLISH
BEGIN:VTIMEZONE
TZID:America/New_York
X-LIC-LOCATION:America/New_York
BEGIN:DAYLIGHT
TZOFFSETFROM:-0500
TZOFFSETTO:-0400
TZNAME:EDT
DTSTART:19700308T020000
RRULE:FREQ=YEARLY;BYMONTH=3;BYDAY=2SU
END:DAYLIGHT
BEGIN:STANDARD
TZOFFSETFROM:-0400
TZOFFSETTO:-0500
TZNAME:EST
DTSTART:19701101T020000
RRULE:FREQ=YEARLY;BYMONTH=11;BYDAY=1SU
END:STANDARD
END:VTIMEZONE
BEGIN:VEVENT
UID:5283893:Event:237811
DTSTAMP:20260419T154144Z
SUMMARY:OnlineDrive Open Demo
DESCRIPTION:I get asked a lot \"What does your company do\" I guess I 
 spend more time sharing content and education on online marketing I fo
 rget to tell our story.\nTo fix that I am holding open demos of our On
 lineDrive Service for anyone who wants to get to know us.\nGet To Know
  OnlineDrive\nJoin us every Tuesday 1pm Central Time (2pm Eastern Time
 , 12pm Mountain Time& 11pm Pacific Time) for a live demo of the automo
 tive industriesfirst ever Inbound Marketing TurnKey Solution.”\nThis
  information packed, live webinar will show you how OnlineDrive can dr
 ive 6X more traffic, 3X more leads and Optimize your web presence at t
 he top of your market through an Integrated Inbound Marketing Service.
 \n \nWe will cover:\n \n\nSEO, Content Marketing & Websites\nPPC & L
 anding Pages\nSocial Media Management\nConversion Rate Optimization\n\
 nThen we’ll give you a live tour of OnlineDrive’s advanced analyti
 cs platform that pulls it all together.\n\nFor more information visit 
 https://www.dealerelite.net/events/onlinedrive-open-demo
DTSTART;TZID=America/New_York:20111101T130000
DTEND;TZID=America/New_York:20111101T140000
CATEGORIES:webinar
LOCATION:Online Webinar
WEBSITE:http://www.micrositesbyu.com/OnlineDrive_demo
URL:http://www.micrositesbyu.com/OnlineDrive_demo
CONTACT:281.455.3811
ORGANIZER;CN="Larry Bruce":https://www.dealerelite.net/profile/LarryBr
 uce
ATTACH;FMTTYPE="image/jpeg":
ATTENDEE;ROLE=REQ-PARTICIPANT;PARTSTAT=ACCEPTED;RSVP=TRUE;CN="Larry Br
 uce":https://www.dealerelite.net/profile/LarryBruce
END:VEVENT
END:VCALENDAR
