BEGIN:VCALENDAR
PRODID:NingEventWidget-v1
VERSION:2.0
METHOD:PUBLISH
BEGIN:VTIMEZONE
TZID:America/New_York
X-LIC-LOCATION:America/New_York
BEGIN:DAYLIGHT
TZOFFSETFROM:-0500
TZOFFSETTO:-0400
TZNAME:EDT
DTSTART:19700308T020000
RRULE:FREQ=YEARLY;BYMONTH=3;BYDAY=2SU
END:DAYLIGHT
BEGIN:STANDARD
TZOFFSETFROM:-0400
TZOFFSETTO:-0500
TZNAME:EST
DTSTART:19701101T020000
RRULE:FREQ=YEARLY;BYMONTH=11;BYDAY=1SU
END:STANDARD
END:VTIMEZONE
BEGIN:VEVENT
UID:5283893:Event:328519
DTSTAMP:20260422T201654Z
SUMMARY:Phone Ninjas DSES Suite Party
DESCRIPTION:Join Jerry Thibeau from Phone Ninjas for an exclusive VIP 
 mixer.  We have reserved a suite overlooking the Bellagio fountains a
 nd will be serving food and beverage.  Text 585-749-2015 the day of t
 he event for a suite number, or see Jerry Thibeau at the DSES cocktail
  reception.\n\nFor more information visit https://www.dealerelite.net/
 events/phone-ninjas-dses-suite-party
DTSTART;TZID=America/New_York:20121021T190000
DTEND;TZID=America/New_York:20121021T230000
CATEGORIES:vip, mixer
LOCATION:Bellagio Suite
WEBSITE:
URL:
CONTACT:585-749-2015
ORGANIZER;CN="Jerry Thibeau":https://www.dealerelite.net/profile/Jerry
 Thibeau
ATTACH;FMTTYPE="image/jpeg":
ATTENDEE;ROLE=REQ-PARTICIPANT;PARTSTAT=ACCEPTED;RSVP=TRUE;CN="Jerry Th
 ibeau":https://www.dealerelite.net/profile/JerryThibeau
END:VEVENT
END:VCALENDAR
