BEGIN:VCALENDAR
PRODID:NingEventWidget-v1
VERSION:2.0
METHOD:PUBLISH
BEGIN:VTIMEZONE
TZID:America/New_York
X-LIC-LOCATION:America/New_York
BEGIN:DAYLIGHT
TZOFFSETFROM:-0500
TZOFFSETTO:-0400
TZNAME:EDT
DTSTART:19700308T020000
RRULE:FREQ=YEARLY;BYMONTH=3;BYDAY=2SU
END:DAYLIGHT
BEGIN:STANDARD
TZOFFSETFROM:-0400
TZOFFSETTO:-0500
TZNAME:EST
DTSTART:19701101T020000
RRULE:FREQ=YEARLY;BYMONTH=11;BYDAY=1SU
END:STANDARD
END:VTIMEZONE
BEGIN:VEVENT
UID:5283893:Event:246421
DTSTAMP:20260421T044820Z
SUMMARY:Pre-Owned Conference
DESCRIPTION:The Third Pre Owned Conference is dedicated to teaching ca
 r dealers successful strategies relating specifically to pre owned inv
 entories. The conference will feature eight different experts presenti
 ng their experiences and strategies for a successful dealership.\nFor 
 more information about the Third Pre-Owned Conference visit www.preown
 edconference.com\n \n\nFor more information visit https://www.dealere
 lite.net/events/pre-owned-conference
DTSTART;TZID=America/New_York:20111208T000000
DTEND;TZID=America/New_York:20111209T235900
CATEGORIES:pre-owned, conference
LOCATION:Holiday Inn & Suites North, Phoenix AZ
WEBSITE:http://www.PreOwnedConference.com
URL:http://www.PreOwnedConference.com
CONTACT:1-866-966-8374
ORGANIZER:Tim Deese
ATTACH;FMTTYPE="image/jpeg":http://storage.ning.com/topology/rest/1.0/
 file/get/2632928066?profile=original
ATTENDEE;ROLE=REQ-PARTICIPANT;PARTSTAT=ACCEPTED;RSVP=TRUE;CN="Heather 
 Wirtz":https://www.dealerelite.net/profile/HeatherWirtz
END:VEVENT
END:VCALENDAR
