BEGIN:VCALENDAR
PRODID:NingEventWidget-v1
VERSION:2.0
METHOD:PUBLISH
BEGIN:VTIMEZONE
TZID:America/New_York
X-LIC-LOCATION:America/New_York
BEGIN:DAYLIGHT
TZOFFSETFROM:-0500
TZOFFSETTO:-0400
TZNAME:EDT
DTSTART:19700308T020000
RRULE:FREQ=YEARLY;BYMONTH=3;BYDAY=2SU
END:DAYLIGHT
BEGIN:STANDARD
TZOFFSETFROM:-0400
TZOFFSETTO:-0500
TZNAME:EST
DTSTART:19701101T020000
RRULE:FREQ=YEARLY;BYMONTH=11;BYDAY=1SU
END:STANDARD
END:VTIMEZONE
BEGIN:VEVENT
UID:5283893:Event:323744
DTSTAMP:20260423T195832Z
SUMMARY:Preventing Fraud and Theft at your Dealership
DESCRIPTION:Learn the actions you must take to prevent employee theft 
 and fraud.\nFree webinar Thursday September 27, 9am PT / 10am MT / 11a
 m CT / noon ET \nLast year the highest percentage of total losses at 
 a business was due to employee theft. Internal and vendor fraud are hi
 gh on the list of reasons for loss as well. Additionally, shoplifting 
 accounted for approximately 35.7 percent of total losses according to 
 the National Retail Federation. In this webinar, Kathryn Carlson will
  cover the proper steps to reduce theft and fraud at you dealership. K
 athryn will also discuss how to improve Employee Engagement and how th
 is can help reduce loss at your facility.\nPresented by: Kathryn Car
 lson, Director, HR Management Products, KPA\n\nKathryn Carlson is th
 e Product Director for KPA's HR Management products. Kathryn has over 
 25 years of human resources management experience and is a certified H
 R professional. For the past 13 years Kathryn has focused on developin
 g HR software and programs to improve efficiency, reduce risk, and ens
 ure compliance for companies ranging from small businesses to internat
 ional corporations.\n\nFor more information visit https://www.dealerel
 ite.net/events/preventing-fraud-and-theft-at-your-dealership
DTSTART;TZID=America/New_York:20120927T090000
DTEND;TZID=America/New_York:20120927T100000
CATEGORIES:webinar
LOCATION:http://www.dealerwebinars.com
WEBSITE:http://www.dealerwebinars.com
URL:http://www.dealerwebinars.com
CONTACT:
ORGANIZER;CN="Patric Timmermans":https://www.dealerelite.net/profile/P
 atricTimmermans
ATTACH;FMTTYPE="image/jpeg":http://storage.ning.com/topology/rest/1.0/
 file/get/2632941097?profile=original
ATTENDEE;ROLE=REQ-PARTICIPANT;PARTSTAT=ACCEPTED;RSVP=TRUE;CN="Patric T
 immermans":https://www.dealerelite.net/profile/PatricTimmermans
END:VEVENT
END:VCALENDAR
