BEGIN:VCALENDAR
PRODID:NingEventWidget-v1
VERSION:2.0
METHOD:PUBLISH
BEGIN:VTIMEZONE
TZID:America/New_York
X-LIC-LOCATION:America/New_York
BEGIN:DAYLIGHT
TZOFFSETFROM:-0500
TZOFFSETTO:-0400
TZNAME:EDT
DTSTART:19700308T020000
RRULE:FREQ=YEARLY;BYMONTH=3;BYDAY=2SU
END:DAYLIGHT
BEGIN:STANDARD
TZOFFSETFROM:-0400
TZOFFSETTO:-0500
TZNAME:EST
DTSTART:19701101T020000
RRULE:FREQ=YEARLY;BYMONTH=11;BYDAY=1SU
END:STANDARD
END:VTIMEZONE
BEGIN:VEVENT
UID:5283893:Event:308828
DTSTAMP:20260421T045144Z
SUMMARY:Progressive Phone Skills: Objection Handling
DESCRIPTION:http://automotivephoneobjections.eventbrite.com/\nWe are h
 aving a pre-AutoCon 2012 special offer by offering this session at $99
 .95.  Seating is limited to 25 people.  Don't miss this powerful wor
 kshop.\nPlease register for this session at http://automotivephoneobje
 ctions.eventbrite.com/\nOnce your registered you will get an email wit
 h an invitation to join the meeting.\nTime is 12:00 to 1:30 p.m. ET on
  August 2, 2012.\nIn this live session with Stan you will learn:\n1. T
 he reasons why consumers have objections 2. The most common objections
  that customers have on the phone  3. \"Outside the box thinking\" wor
 d tracks (rebuttals)4. How to utilize technology and build value on th
 e phone\n*Plus downloadable phone objections and rebuttals list...*Att
 endees get a recorded copy of this session available to you\n\n\nFor m
 ore information visit https://www.dealerelite.net/events/progressive-p
 hone-skills-objection-handling
DTSTART;TZID=America/New_York:20120802T120000
DTEND;TZID=America/New_York:20120802T133000
CATEGORIES:virtual, webinar
LOCATION:Online
WEBSITE:http://automotivephoneobjections.eventbrite.com/
URL:http://automotivephoneobjections.eventbrite.com/
CONTACT:(732)925-8362
ORGANIZER;CN="Stan Sher":https://www.dealerelite.net/profile/StanSher8
 3
ATTACH;FMTTYPE="image/jpeg":http://storage.ning.com/topology/rest/1.0/
 file/get/2632949416?profile=original
ATTENDEE;ROLE=REQ-PARTICIPANT;PARTSTAT=ACCEPTED;RSVP=TRUE;CN="Romel Qu
 intanilla":https://www.dealerelite.net/profile/RomelQuintanilla
ATTENDEE;ROLE=REQ-PARTICIPANT;PARTSTAT=ACCEPTED;RSVP=TRUE;CN="Stan She
 r":https://www.dealerelite.net/profile/StanSher83
END:VEVENT
END:VCALENDAR
