BEGIN:VCALENDAR
PRODID:NingEventWidget-v1
VERSION:2.0
METHOD:PUBLISH
BEGIN:VTIMEZONE
TZID:America/New_York
X-LIC-LOCATION:America/New_York
BEGIN:DAYLIGHT
TZOFFSETFROM:-0500
TZOFFSETTO:-0400
TZNAME:EDT
DTSTART:19700308T020000
RRULE:FREQ=YEARLY;BYMONTH=3;BYDAY=2SU
END:DAYLIGHT
BEGIN:STANDARD
TZOFFSETFROM:-0400
TZOFFSETTO:-0500
TZNAME:EST
DTSTART:19701101T020000
RRULE:FREQ=YEARLY;BYMONTH=11;BYDAY=1SU
END:STANDARD
END:VTIMEZONE
BEGIN:VEVENT
UID:5283893:Event:66244
DTSTAMP:20260422T185645Z
SUMMARY:Promoting Your Dealership With Online Videos
DESCRIPTION:YouTube is the second most popular search engine with even
  more searches than Yahoo! Is your dealership taking advantage of this
  free tool to push your brand online? Join Tim in this FREE webinar wo
 rkshop on March 24 at 1:57 PM EST and learn to market your dealership 
 by posting videos on YouTube and other video networks, optimizing them
  to show up at the top of search results. Sign up now for this FREE on
 line workshop! This takes places Thursday, March 24, at 1:57 PM EST an
 d will last about half an hour.\n \n\nFor more information visit http
 s://www.dealerelite.net/events/promoting-your-dealership-with
DTSTART;TZID=America/New_York:20110324T140000
DTEND;TZID=America/New_York:20110324T143000
CATEGORIES:online, workshop
LOCATION:Online
WEBSITE:http://exclusivelyautomotive.com/promoting-your-dealership-wit
 h-online-videos/
URL:http://exclusivelyautomotive.com/promoting-your-dealership-with-on
 line-videos/
CONTACT:518-631-5505
ORGANIZER;CN="Paul Potratz":https://www.dealerelite.net/profile/PaulPo
 tratz
ATTACH;FMTTYPE="image/jpeg":http://storage.ning.com/topology/rest/1.0/
 file/get/2632913644?profile=original
ATTENDEE;ROLE=REQ-PARTICIPANT;PARTSTAT=ACCEPTED;RSVP=TRUE;CN="Paul Pot
 ratz":https://www.dealerelite.net/profile/PaulPotratz
END:VEVENT
END:VCALENDAR
