BEGIN:VCALENDAR
PRODID:NingEventWidget-v1
VERSION:2.0
METHOD:PUBLISH
BEGIN:VTIMEZONE
TZID:America/New_York
X-LIC-LOCATION:America/New_York
BEGIN:DAYLIGHT
TZOFFSETFROM:-0500
TZOFFSETTO:-0400
TZNAME:EDT
DTSTART:19700308T020000
RRULE:FREQ=YEARLY;BYMONTH=3;BYDAY=2SU
END:DAYLIGHT
BEGIN:STANDARD
TZOFFSETFROM:-0400
TZOFFSETTO:-0500
TZNAME:EST
DTSTART:19701101T020000
RRULE:FREQ=YEARLY;BYMONTH=11;BYDAY=1SU
END:STANDARD
END:VTIMEZONE
BEGIN:VEVENT
UID:5283893:Event:498527
DTSTAMP:20260422T145920Z
SUMMARY:Real Social Selling (That Actually Sells Something!)
DESCRIPTION:\nSocial Selling is real and it's happening today! Right n
 ow, dynamic, energetic, enthusiastic salespeople are selling everythin
 g from furniture to cars to homes using nothing more than Facebook and
  perhaps an inexpensive app or two!\nDon't get left behind!\nIn this F
 REE LIVE VIDEO WEBCAST, Steve will provide your team everything they n
 eed to know to really sell cars, boats, RVs, motorcycles, Real Estate 
 or even consumer goods like furniture using Facebook and Facebook Mess
 enger.  \nThis event will be broadcast live on Friday, May 19, 2017 b
 eginning at 1 PM Eastern / 10 AM Pacific right on our homepage: http:
 //undeniableadvantage.com/\nBOOKMARK THAT PAGE NOW and SUBSCRIBE to ou
 r YouTube Channel so you never miss a webcast or new training video: 
 https://www.youtube.com/user/SteveStauning\n\nFor more information vis
 it https://www.dealerelite.net/events/real-social-selling-that-actuall
 y-sells-something
DTSTART;TZID=America/New_York:20170519T130000
DTEND;TZID=America/New_York:20170519T143000
CATEGORIES:online, live, video, webcast
LOCATION:Online - 1 PM Eastern / 10 AM Pacific
WEBSITE:https://www.eventbrite.com/e/real-social-selling-that-actually
 -sells-something-tickets-33411610025
URL:https://www.eventbrite.com/e/real-social-selling-that-actually-sel
 ls-something-tickets-33411610025
CONTACT:
ORGANIZER;CN="Steve Stauning":https://www.dealerelite.net/profile/Stev
 eStauning753
ATTACH;FMTTYPE="image/jpeg":http://storage.ning.com/topology/rest/1.0/
 file/get/2633031107?profile=original
ATTENDEE;ROLE=REQ-PARTICIPANT;PARTSTAT=ACCEPTED;RSVP=TRUE;CN="Steve St
 auning":https://www.dealerelite.net/profile/SteveStauning753
END:VEVENT
END:VCALENDAR
