BEGIN:VCALENDAR
PRODID:NingEventWidget-v1
VERSION:2.0
METHOD:PUBLISH
BEGIN:VTIMEZONE
TZID:America/New_York
X-LIC-LOCATION:America/New_York
BEGIN:DAYLIGHT
TZOFFSETFROM:-0500
TZOFFSETTO:-0400
TZNAME:EDT
DTSTART:19700308T020000
RRULE:FREQ=YEARLY;BYMONTH=3;BYDAY=2SU
END:DAYLIGHT
BEGIN:STANDARD
TZOFFSETFROM:-0400
TZOFFSETTO:-0500
TZNAME:EST
DTSTART:19701101T020000
RRULE:FREQ=YEARLY;BYMONTH=11;BYDAY=1SU
END:STANDARD
END:VTIMEZONE
BEGIN:VEVENT
UID:5283893:Event:212362
DTSTAMP:20260422T012558Z
SUMMARY:Regulatory Updates from OSHA and the EPA
DESCRIPTION:With increased funding and a renewed focus on enforcement,
  both OSHA and the EPA have been busy drafting new regulations. Presen
 ted by Peter Zaidel, EHS Product Manager for KPA.\nNavigating the curr
 ent and proposed changes by OSHA and the EPA can be confusing and time
  consuming. Take the mystery out of the current regulatory updates by 
 attending this webinar by Peter Zaidel as he discusses proposed and up
 coming changes to OSHA and EPA regulations including:\n\nOSHA Reportin
 g (300 Logs)\nI2P2\nUST Operator Training\nUpdated Penalty Policies\nA
 nd many more!   \n\n\nFor more information visit https://www.dealere
 lite.net/events/regulatory-updates-from-osha-and-the-epa
DTSTART;TZID=America/New_York:20110915T094500
DTEND;TZID=America/New_York:20110915T110000
CATEGORIES:ehs, webinar
LOCATION:Online Webinar
WEBSITE:http://go.kpaonline.com/LP=69?elqCampaignId=97
URL:http://go.kpaonline.com/LP=69?elqCampaignId=97
CONTACT:(866) 356-1735
ORGANIZER;CN="Brian Torrez":https://www.dealerelite.net/profile/BrianT
 orrez
ATTACH;FMTTYPE="image/jpeg":http://storage.ning.com/topology/rest/1.0/
 file/get/2632919590?profile=original
ATTENDEE;ROLE=REQ-PARTICIPANT;PARTSTAT=ACCEPTED;RSVP=TRUE;CN="Brian To
 rrez":https://www.dealerelite.net/profile/BrianTorrez
END:VEVENT
END:VCALENDAR
