BEGIN:VCALENDAR
PRODID:NingEventWidget-v1
VERSION:2.0
METHOD:PUBLISH
BEGIN:VTIMEZONE
TZID:America/New_York
X-LIC-LOCATION:America/New_York
BEGIN:DAYLIGHT
TZOFFSETFROM:-0500
TZOFFSETTO:-0400
TZNAME:EDT
DTSTART:19700308T020000
RRULE:FREQ=YEARLY;BYMONTH=3;BYDAY=2SU
END:DAYLIGHT
BEGIN:STANDARD
TZOFFSETFROM:-0400
TZOFFSETTO:-0500
TZNAME:EST
DTSTART:19701101T020000
RRULE:FREQ=YEARLY;BYMONTH=11;BYDAY=1SU
END:STANDARD
END:VTIMEZONE
BEGIN:VEVENT
UID:5283893:Event:364944
DTSTAMP:20260423T154917Z
SUMMARY:Required OSHA / EPA Paperwork â€“ Are your files accurate?
DESCRIPTION:Paperwork is often one of the first things Regulators chec
 k when they show up, are you ready?\nThursday April 25, 2013, 10:00am 
 Mountain Time\nDo you think you are prepared for a regulatory inspecti
 on? Your shop may be clean as a whistle, but that is not all you need 
 to be in compliance with the regulatory agencies. The paperwork that i
 s required can put a damper on the bottom line if you get caught not h
 aving it in place. In these safety webinars, we have typically focused
  on items in the shop to repair, replace, or remove. This time, we are
  going to focus on what paperwork should be on file in the office. Som
 etimes, this is just as important or even more important when it comes
  to the regulatory inspector that shows up.\nPresented by:Â GloriannaÂ
  Cooley,Â E&S Engineer,Â KPA\n\nGlorianna came to KPA in 2008 and is a
  Registered Environmental Manager (REM) and Certified Safety Professio
 nal (CSP). Prior to KPA, Glorianna worked in the Environmental and Saf
 ety role for various companies around Columbus, OH. She has an excelle
 nt rapport with her client base and has won company awards for her com
 mitment to excellence.\n\nFor more information visit https://www.deale
 relite.net/events/required-osha-epa-paperwork-are-your-files-accurate
DTSTART;TZID=America/New_York:20130425T090000
DTEND;TZID=America/New_York:20130425T100000
CATEGORIES:webinar
LOCATION:http://www.dealerwebinars.com/espaperwork.html
WEBSITE:http://www.dealerwebinars.com/espaperwork.html
URL:http://www.dealerwebinars.com/espaperwork.html
CONTACT:
ORGANIZER;CN="Patric Timmermans":https://www.dealerelite.net/profile/P
 atricTimmermans
ATTACH;FMTTYPE="image/jpeg":http://storage.ning.com/topology/rest/1.0/
 file/get/2632941097?profile=original
ATTENDEE;ROLE=REQ-PARTICIPANT;PARTSTAT=ACCEPTED;RSVP=TRUE;CN="Patric T
 immermans":https://www.dealerelite.net/profile/PatricTimmermans
END:VEVENT
END:VCALENDAR
