BEGIN:VCALENDAR
PRODID:NingEventWidget-v1
VERSION:2.0
METHOD:PUBLISH
BEGIN:VTIMEZONE
TZID:America/New_York
X-LIC-LOCATION:America/New_York
BEGIN:DAYLIGHT
TZOFFSETFROM:-0500
TZOFFSETTO:-0400
TZNAME:EDT
DTSTART:19700308T020000
RRULE:FREQ=YEARLY;BYMONTH=3;BYDAY=2SU
END:DAYLIGHT
BEGIN:STANDARD
TZOFFSETFROM:-0400
TZOFFSETTO:-0500
TZNAME:EST
DTSTART:19701101T020000
RRULE:FREQ=YEARLY;BYMONTH=11;BYDAY=1SU
END:STANDARD
END:VTIMEZONE
BEGIN:VEVENT
UID:5283893:Event:493267
DTSTAMP:20260423T164733Z
SUMMARY:Rockstar Automotive Conference 2017
DESCRIPTION:The Rockstar Auto Conference helps automotive sales and le
 adership professionals elevate their careers. At this unique automotiv
 e industry even you'll learn better ways to serve customers and sell p
 roducts so that you can build a loyal customer base with higher profit
  margins.\n\nLearn more at http://rockstarautoconference.com/\n\nFol
 low on Social media at:\nhttps://twitter.com/RockstarAutoCon\nhttps://
 www.facebook.com/rockstarautoconference\nhttps://www.youtube.com/chann
 el/UCsIAEziLBYzb8BPwlyev5Tw\n\n\nFor more information visit https://ww
 w.dealerelite.net/events/rockstar-automotive-conference-2017
DTSTART;TZID=America/New_York:20170321T090000
DTEND;TZID=America/New_York:20170321T190000
CATEGORIES:automotive, conference
LOCATION:Granada Theater of Dallas Texas
WEBSITE:http://rockstarautoconference.com/
URL:http://rockstarautoconference.com/
CONTACT:269-775-0002
ORGANIZER;CN="Chris Speer":https://www.dealerelite.net/profile/ChrisSp
 eer
ATTACH;FMTTYPE="image/jpeg":http://storage.ning.com/topology/rest/1.0/
 file/get/2633028904?profile=original
ATTENDEE;ROLE=REQ-PARTICIPANT;PARTSTAT=ACCEPTED;RSVP=TRUE;CN="Chris Sp
 eer":https://www.dealerelite.net/profile/ChrisSpeer
END:VEVENT
END:VCALENDAR
