BEGIN:VCALENDAR
PRODID:NingEventWidget-v1
VERSION:2.0
METHOD:PUBLISH
BEGIN:VTIMEZONE
TZID:America/New_York
X-LIC-LOCATION:America/New_York
BEGIN:DAYLIGHT
TZOFFSETFROM:-0500
TZOFFSETTO:-0400
TZNAME:EDT
DTSTART:19700308T020000
RRULE:FREQ=YEARLY;BYMONTH=3;BYDAY=2SU
END:DAYLIGHT
BEGIN:STANDARD
TZOFFSETFROM:-0400
TZOFFSETTO:-0500
TZNAME:EST
DTSTART:19701101T020000
RRULE:FREQ=YEARLY;BYMONTH=11;BYDAY=1SU
END:STANDARD
END:VTIMEZONE
BEGIN:VEVENT
UID:5283893:Event:496102
DTSTAMP:20260424T050609Z
SUMMARY:Sally Whitesell, president of sw Service Solutions Free webina
 r \"What Drives Women?\"
DESCRIPTION:Please plan to joinÂ Sally for important incite on this to
 pic.Â \nWhy:\nÂ â€¢Women influence over 85% ofÂ allÂ purchases.Â \nâ€¢
 Women now control over 60% of personal wealth in the US.\nâ€¢Women spe
 nd over $200 billion on new cars and mechanicalÂ servicing of vehicles
  each year.\nâ€¢Most service departments report that 65% of their clie
 ntele isÂ female.\nâ€¢Women are 3 times more likely to read and fill o
 ut reviews.\nâ€¢There are many similarities between female clients and
  MillennialsÂ as the gender gap narrows.\nÂ  Â  Â  Â  Â  Â  Â  Â  Â  Â
   Â  Â  Â  Â  Â  Â  Â  Â  Â  Â  Â  Â  Â  Â  Â  Â  Â  Â  Â  Â  Â  Â  Â 
  Â Â \n\n\nFor more information visit https://www.dealerelite.net/even
 ts/sally-whitesell-president-of-sw-service-solutions
DTSTART;TZID=America/New_York:20170301T130000
DTEND;TZID=America/New_York:20170301T140000
CATEGORIES:free, seminar, through, automotive, news, fixed, ops, "jour
 nal."
LOCATION:http://www.autonews.com/article/20170207/WEBINAR03/302079919/
 what-drives-women-how-to-connect-with-your-largest-demographic
WEBSITE:
URL:
CONTACT:
ORGANIZER:Automotive News Fixed Ops Journal
ATTACH;FMTTYPE="image/jpeg":http://storage.ning.com/topology/rest/1.0/
 file/get/2632939392?profile=original
ATTENDEE;ROLE=REQ-PARTICIPANT;PARTSTAT=ACCEPTED;RSVP=TRUE;CN="Sally Wh
 itesell":https://www.dealerelite.net/profile/SallyWhitesell
END:VEVENT
END:VCALENDAR
