BEGIN:VCALENDAR
PRODID:NingEventWidget-v1
VERSION:2.0
METHOD:PUBLISH
BEGIN:VTIMEZONE
TZID:America/New_York
X-LIC-LOCATION:America/New_York
BEGIN:DAYLIGHT
TZOFFSETFROM:-0500
TZOFFSETTO:-0400
TZNAME:EDT
DTSTART:19700308T020000
RRULE:FREQ=YEARLY;BYMONTH=3;BYDAY=2SU
END:DAYLIGHT
BEGIN:STANDARD
TZOFFSETFROM:-0400
TZOFFSETTO:-0500
TZNAME:EST
DTSTART:19701101T020000
RRULE:FREQ=YEARLY;BYMONTH=11;BYDAY=1SU
END:STANDARD
END:VTIMEZONE
BEGIN:VEVENT
UID:5283893:Event:499034
DTSTAMP:20260422T181102Z
SUMMARY:Samurai F&I  - Sales Managers Seminars
DESCRIPTION:Debbie and The Dawg are taking the show on the Road to Chi
 cago in May. We're bringing our famous Automotive Management courses t
 o the Hyatt Place at O'Hare May 16th -17th and May 18th-19th with two 
 dynamic events. . The Samurai F&I Seminar and The Sales Manager Semina
 r. James A. Ziegler, CSP, HSG.  \n \n\nHotel rooms are highly discoun
 ted on our group rate. These Automotive Management seminars will great
 ly improve your numbers and processes. Regardless of whether or not yo
 u are new to management, or an established pro with years of experienc
 e; These seminars will change your life and career. \n\nAny questions
 , or for group rates, call Jim Ziegler directly at (770) 921-4440. AND
 , for more information go to www.ZieglerSeminars.com.\n\nFor more info
 rmation visit https://www.dealerelite.net/events/samurai-f-i-sales-man
 agers-seminars
DTSTART;TZID=America/New_York:20170516T080000
DTEND;TZID=America/New_York:20170519T120000
CATEGORIES:"f&i", and, sales, managers, seminars
LOCATION:Hyatt Place Hotel O'Hare, Chicago
WEBSITE:http://www.ZieglerSeminars.com
URL:http://www.ZieglerSeminars.com
CONTACT:(770) 921-4440
ORGANIZER;CN="James A. Ziegler":https://www.dealerelite.net/profile/Ja
 mesAZiegler
ATTACH;FMTTYPE="image/jpeg":http://storage.ning.com/topology/rest/1.0/
 file/get/2633032849?profile=original
ATTENDEE;ROLE=REQ-PARTICIPANT;PARTSTAT=ACCEPTED;RSVP=TRUE;CN="James A.
  Ziegler":https://www.dealerelite.net/profile/JamesAZiegler
END:VEVENT
END:VCALENDAR
