BEGIN:VCALENDAR
PRODID:NingEventWidget-v1
VERSION:2.0
METHOD:PUBLISH
BEGIN:VTIMEZONE
TZID:America/New_York
X-LIC-LOCATION:America/New_York
BEGIN:DAYLIGHT
TZOFFSETFROM:-0500
TZOFFSETTO:-0400
TZNAME:EDT
DTSTART:19700308T020000
RRULE:FREQ=YEARLY;BYMONTH=3;BYDAY=2SU
END:DAYLIGHT
BEGIN:STANDARD
TZOFFSETFROM:-0400
TZOFFSETTO:-0500
TZNAME:EST
DTSTART:19701101T020000
RRULE:FREQ=YEARLY;BYMONTH=11;BYDAY=1SU
END:STANDARD
END:VTIMEZONE
BEGIN:VEVENT
UID:5283893:Event:364676
DTSTAMP:20260423T222736Z
SUMMARY:Simple Ways to Maximize the Potential of Your CRM
DESCRIPTION:To attract the most profitable customer in your database (
 repeat customers), you need to ensure the right message is sent to the
  right customer at the right time.\nComplimentary webinar Wednesday Ap
 ril 17, 2013, 10:00am Mountain Time\nRegister at http://www.dealerweb
 inars.com/crmpotential?ch=social\nCustomer Relationship Management sho
 uld be utilized for much more than just following up with your Interne
 t Leads, Phone Leads, and Walk In traffic. Your CRM should help you ef
 fectively and efficiently manage your complete customer life cycle in 
 your dealership from the sales department all the way through to your 
 service department. Tune in to this webinar to learn some simple ways 
 to maximize the potential of your CRM.\nPresented by: Peter Ord, Di
 rector of Business Development, DealerSocket\n\nPeter Ord is Director
  of Business Development at DealerSocket. He has been with DealerSocke
 t for 9 years and is extremely passionate about helping dealers use te
 chnology to automate the best processes to enable their people to sell
  and service more cars. Peter can be contacted via email at pord@deale
 rsocket.com.\n\nFor more information visit https://www.dealerelite.net
 /events/simple-ways-to-maximize-the-potential-of-your-crm
DTSTART;TZID=America/New_York:20130417T090000
DTEND;TZID=America/New_York:20130417T100000
CATEGORIES:webinar
LOCATION:http://www.dealerwebinars.com/crmpotential?ch=social
WEBSITE:http://www.dealerwebinars.com/crmpotential?ch=social
URL:http://www.dealerwebinars.com/crmpotential?ch=social
CONTACT:
ORGANIZER;CN="Patric Timmermans":https://www.dealerelite.net/profile/P
 atricTimmermans
ATTACH;FMTTYPE="image/jpeg":http://storage.ning.com/topology/rest/1.0/
 file/get/2632971783?profile=original
ATTENDEE;ROLE=REQ-PARTICIPANT;PARTSTAT=ACCEPTED;RSVP=TRUE;CN="Patric T
 immermans":https://www.dealerelite.net/profile/PatricTimmermans
END:VEVENT
END:VCALENDAR
