BEGIN:VCALENDAR
PRODID:NingEventWidget-v1
VERSION:2.0
METHOD:PUBLISH
BEGIN:VTIMEZONE
TZID:America/New_York
X-LIC-LOCATION:America/New_York
BEGIN:DAYLIGHT
TZOFFSETFROM:-0500
TZOFFSETTO:-0400
TZNAME:EDT
DTSTART:19700308T020000
RRULE:FREQ=YEARLY;BYMONTH=3;BYDAY=2SU
END:DAYLIGHT
BEGIN:STANDARD
TZOFFSETFROM:-0400
TZOFFSETTO:-0500
TZNAME:EST
DTSTART:19701101T020000
RRULE:FREQ=YEARLY;BYMONTH=11;BYDAY=1SU
END:STANDARD
END:VTIMEZONE
BEGIN:VEVENT
UID:5283893:Event:356680
DTSTAMP:20260423T155657Z
SUMMARY:Special Finance Super Charged
DESCRIPTION: One-day super charged special finance workshop with indu
 stry expert, Greg Goebel. The workshop is designed for beginners & 
 experienced Special Finance departments. Class is appropriate for the 
 Dealer, GM, GSM, Special Finance Director and, depending on the struct
 ure of the dealership, may even be appropriate for the sales staff. To
  register now: http://greggoebel.com/wp-content/uploads/2013/02/2013-
 GGSF-Attendee-Registration-Form.pdf\n\nFor more information visit http
 s://www.dealerelite.net/events/special-finance-super-charged-3
DTSTART;TZID=America/New_York:20130502T080000
DTEND;TZID=America/New_York:20130502T170000
CATEGORIES:workshop
LOCATION:Boston, MA
WEBSITE:
URL:
CONTACT:877.811.8107
ORGANIZER:Harlene Doane
ATTACH;FMTTYPE="image/jpeg":http://storage.ning.com/topology/rest/1.0/
 file/get/2632968534?profile=original
ATTENDEE;ROLE=REQ-PARTICIPANT;PARTSTAT=ACCEPTED;RSVP=TRUE;CN=Brett:htt
 ps://www.dealerelite.net/profile/Brett
END:VEVENT
END:VCALENDAR
