BEGIN:VCALENDAR
PRODID:NingEventWidget-v1
VERSION:2.0
METHOD:PUBLISH
BEGIN:VTIMEZONE
TZID:America/New_York
X-LIC-LOCATION:America/New_York
BEGIN:DAYLIGHT
TZOFFSETFROM:-0500
TZOFFSETTO:-0400
TZNAME:EDT
DTSTART:19700308T020000
RRULE:FREQ=YEARLY;BYMONTH=3;BYDAY=2SU
END:DAYLIGHT
BEGIN:STANDARD
TZOFFSETFROM:-0400
TZOFFSETTO:-0500
TZNAME:EST
DTSTART:19701101T020000
RRULE:FREQ=YEARLY;BYMONTH=11;BYDAY=1SU
END:STANDARD
END:VTIMEZONE
BEGIN:VEVENT
UID:5283893:Event:493059
DTSTAMP:20260424T012758Z
SUMMARY:Steve Stauning's Undeniable Advantage Full-Day Intensive
DESCRIPTION:Grow your sales, share & grosses in 2017 by sending your e
 ntire team to Steve’s live, full-day intensive workshop!\nLimited Sp
 ace Available! REGISTER RIGHT NOW!\nDespite the great demand we’re s
 eeing today, the market is changing faster than ever before. Old schoo
 l sales tactics & outdated phone training will simply not cut it in wh
 en the market inevitably turns south. Steve Stauning’s Undeniable Ad
 vantage is the only Full-Day Intensive Training truly designed to prep
 are your teams to succeed now and far into the future!\nDon’t be the
  ONLY area dealership that misses this one-day event!\nThis Full-Day I
 ntensive Workshop Includes everything your team needs know to:\n- Domi
 nate The Phones (and text) in Your Market in 2017 & Beyond! - Attract 
 & Sell Today’s Buyers (while earning 5-Star Reviews)\n- Employ Socia
 l Selling Strategies that Really Work!\n- Set Real Appointments That S
 how & Close at over 80%!\n- Grow Sales, Share & Grosses in the Coming 
 Flat Market!\n......\nAnother #&?%!$@ Automotive Conference!?!?\nDon
 t we have enough automotive conferences already?\nYes, we have more t
 han enough conferences today if the goal is to introduce more useless 
 shiny objects, subject dealers to worthless advice delivered by agenda
 -driven vendors, or regurgitate old-school selling techniques.\nWhat
 s different about the Undeniable Advantage workshops?\nThere are many
  reasons these workshops are not only different, but better than the o
 thers; here are just 4 of those reasons:\n1. All participants leave no
 t just with “a few great ideas,” but a fully customizable plan the
 y can put to work the minute they return to the dealership.\n2. Every 
 session has one goal: Help the participants actually sell more cars (t
 oday and in the future). We do not introduce utopian and relatively wo
 rthless concepts for car dealers like \"The Role of Social in the Bran
 d Storyscape\" (an actual session at a real automotive conference targ
 eted to dealers).\n3. There are no “Pay-To-Play” vendor-speakers d
 elivering sales pitches disguised as lessons.\n4. Every sponsor is han
 d-selected, fully vetted and highly recommended by Steve Stauning. (In
 terested in sponsoring? If you feel you can pass the vetting process, 
 contact Steve at 888-318-6598 for more information.)\n\nFor more infor
 mation visit https://www.dealerelite.net/events/steve-stauning-s-unden
 iable-advantage-full-day-intensive
DTSTART;TZID=America/New_York:20170308T000000
DTEND;TZID=America/New_York:20170308T235900
CATEGORIES:full-day, intensive, workshop
LOCATION:Spokane Valley (WA) Event Center
WEBSITE:https://stevestauning.ticketleap.com/undeniable-advantage-full
 -day-intensive/
URL:https://stevestauning.ticketleap.com/undeniable-advantage-full-day
 -intensive/
CONTACT:888-318-6598
ORGANIZER;CN="Steve Stauning":https://www.dealerelite.net/profile/Stev
 eStauning753
ATTACH;FMTTYPE="image/jpeg":http://storage.ning.com/topology/rest/1.0/
 file/get/2633029078?profile=original
ATTENDEE;ROLE=REQ-PARTICIPANT;PARTSTAT=ACCEPTED;RSVP=TRUE;CN="Steve St
 auning":https://www.dealerelite.net/profile/SteveStauning753
END:VEVENT
END:VCALENDAR
