BEGIN:VCALENDAR
PRODID:NingEventWidget-v1
VERSION:2.0
METHOD:PUBLISH
BEGIN:VTIMEZONE
TZID:America/New_York
X-LIC-LOCATION:America/New_York
BEGIN:DAYLIGHT
TZOFFSETFROM:-0500
TZOFFSETTO:-0400
TZNAME:EDT
DTSTART:19700308T020000
RRULE:FREQ=YEARLY;BYMONTH=3;BYDAY=2SU
END:DAYLIGHT
BEGIN:STANDARD
TZOFFSETFROM:-0400
TZOFFSETTO:-0500
TZNAME:EST
DTSTART:19701101T020000
RRULE:FREQ=YEARLY;BYMONTH=11;BYDAY=1SU
END:STANDARD
END:VTIMEZONE
BEGIN:VEVENT
UID:5283893:Event:498184
DTSTAMP:20260423T031309Z
SUMMARY:Strategy Call - Highly Effective Used Car Marketing Tips
DESCRIPTION:This month’s “Strategy Call with Paul” focuses on ti
 ps and strategies to explode your used car sales. You'll learn how to 
 increase gross profits and leads at your dealership. Don’t miss the
  opportunity to join this webcast where you can ask Paul Potratz your 
 questions and gain access to exclusive tools, only offered during this
  live consulting webcast. \n\nFor more information visit https://www.
 dealerelite.net/events/strategy-call-highly-effective-used-car-marketi
 ng-tips
DTSTART;TZID=America/New_York:20170424T153000
DTEND;TZID=America/New_York:20170424T163000
CATEGORIES:webcast
LOCATION:Webcast
WEBSITE:https://app.webinarjam.net/register/31162/2994449855
URL:https://app.webinarjam.net/register/31162/2994449855
CONTACT:
ORGANIZER;CN="Paul Potratz":https://www.dealerelite.net/profile/PaulPo
 tratz
ATTACH;FMTTYPE="image/jpeg":http://storage.ning.com/topology/rest/1.0/
 file/get/2633032404?profile=original
ATTENDEE;ROLE=REQ-PARTICIPANT;PARTSTAT=ACCEPTED;RSVP=TRUE;CN="Paul Pot
 ratz":https://www.dealerelite.net/profile/PaulPotratz
END:VEVENT
END:VCALENDAR
