BEGIN:VCALENDAR
PRODID:NingEventWidget-v1
VERSION:2.0
METHOD:PUBLISH
BEGIN:VTIMEZONE
TZID:America/New_York
X-LIC-LOCATION:America/New_York
BEGIN:DAYLIGHT
TZOFFSETFROM:-0500
TZOFFSETTO:-0400
TZNAME:EDT
DTSTART:19700308T020000
RRULE:FREQ=YEARLY;BYMONTH=3;BYDAY=2SU
END:DAYLIGHT
BEGIN:STANDARD
TZOFFSETFROM:-0400
TZOFFSETTO:-0500
TZNAME:EST
DTSTART:19701101T020000
RRULE:FREQ=YEARLY;BYMONTH=11;BYDAY=1SU
END:STANDARD
END:VTIMEZONE
BEGIN:VEVENT
UID:5283893:Event:305269
DTSTAMP:20260419T102434Z
SUMMARY:Take Advantage of the Tiny Screen: Sell More with Mobile
DESCRIPTION:Profitable Mobile Marketing\nThe whole world is going mobi
 le. Is your dealership prepared? This webinar covers how your dealersh
 ip can leverage the power of mobile for selling and servicing cars, an
 d satisfying more customers, profitably. The mobile world can be overw
 helming when you are first getting started. Join this webinar to learn
  about this exciting new marketing channel.\nPresented by: David Saw
 yer, EVP Sales & Business Development, Advanced Mobile.\n\nDavid is 
 the Executive Vice President of Advanced Mobile and is instrumental in
  strategic, sales and business development areas. David, along with Br
 et Dunlap, co-founded Advanced Mobile in November of 2005. David is th
 e creative force behind Mobile Classifieds, Cars2Go, and other related
  mobile initiatives. He also assists with product design to ensure Adv
 anced Mobile's products and services are competitively advantaged in t
 heir respective markets.\n\nFor more information visit https://www.dea
 lerelite.net/events/take-advantage-of-the-tiny-screen-sell-more-with-m
 obile
DTSTART;TZID=America/New_York:20120711T090000
DTEND;TZID=America/New_York:20120711T100000
CATEGORIES:webinar
LOCATION:http://www.dealerwebinars.com
WEBSITE:http://www.dealerwebinars.com
URL:http://www.dealerwebinars.com
CONTACT:
ORGANIZER;CN="Patric Timmermans":https://www.dealerelite.net/profile/P
 atricTimmermans
ATTACH;FMTTYPE="image/jpeg":http://storage.ning.com/topology/rest/1.0/
 file/get/2632949804?profile=original
ATTENDEE;ROLE=REQ-PARTICIPANT;PARTSTAT=ACCEPTED;RSVP=TRUE;CN="Patric T
 immermans":https://www.dealerelite.net/profile/PatricTimmermans
END:VEVENT
END:VCALENDAR
