BEGIN:VCALENDAR
PRODID:NingEventWidget-v1
VERSION:2.0
METHOD:PUBLISH
BEGIN:VTIMEZONE
TZID:America/New_York
X-LIC-LOCATION:America/New_York
BEGIN:DAYLIGHT
TZOFFSETFROM:-0500
TZOFFSETTO:-0400
TZNAME:EDT
DTSTART:19700308T020000
RRULE:FREQ=YEARLY;BYMONTH=3;BYDAY=2SU
END:DAYLIGHT
BEGIN:STANDARD
TZOFFSETFROM:-0400
TZOFFSETTO:-0500
TZNAME:EST
DTSTART:19701101T020000
RRULE:FREQ=YEARLY;BYMONTH=11;BYDAY=1SU
END:STANDARD
END:VTIMEZONE
BEGIN:VEVENT
UID:5283893:Event:307016
DTSTAMP:20260419T211047Z
SUMMARY:Taking Facebook to the Next Level: Advanced Posting Strategies
DESCRIPTION:Maximizing each post is the key to success for those who a
 re beyond “getting” Facebook.\nMany dealers have taken the plunge 
 into Facebook and other social media sites and have found varying degr
 ees of success. It’s still a growing medium despite the vastness of 
 it already and there is room for dealers to be able to expand on what 
 they’re doing without spending more time doing it. Maximizing each p
 ost is the key to success for those who are beyond “getting” Faceb
 ook and are ready to learn how to really make it sing for their dealer
 ship. In this webinar, JD Rucker goes well-beyond the 101 concepts of 
 Facebook and gets into specific styles of posting that will help deale
 rs make the most out of every post while expanding their reach. As wit
 h most things, it’s a matter of quality, not quantity, and having th
 e knowledge to post at that level on Facebook will take your social me
 dia presence to the next level and beyond.\nPresented by: JD Rucker,
  Director of New Media, KPA\n\nJD is responsible for overseeing the 
 direction of digital marketing for the TK Carsites product line for au
 tomotive dealerships as well as for non-auto dealer clients under the 
 Hasai brand. He has personally optimized over 150 individual websites 
 and coordinated the optimization of 1000 websites. JD is recognized in
  the industry as the foremost authority on automotive SEO and is a ren
 owned social media expert.\n\nFor more information visit https://www.d
 ealerelite.net/events/taking-facebook-to-the-next-level-advanced-posti
 ng-strategies
DTSTART;TZID=America/New_York:20120718T090000
DTEND;TZID=America/New_York:20120718T100000
CATEGORIES:webinar
LOCATION:http://www.dealerwebinars.com
WEBSITE:http://www.dealerwebinars.com
URL:http://www.dealerwebinars.com
CONTACT:
ORGANIZER;CN="Patric Timmermans":https://www.dealerelite.net/profile/P
 atricTimmermans
ATTACH;FMTTYPE="image/jpeg":http://storage.ning.com/topology/rest/1.0/
 file/get/2632941709?profile=original
ATTENDEE;ROLE=REQ-PARTICIPANT;PARTSTAT=ACCEPTED;RSVP=TRUE;CN="Patric T
 immermans":https://www.dealerelite.net/profile/PatricTimmermans
END:VEVENT
END:VCALENDAR
