BEGIN:VCALENDAR
PRODID:NingEventWidget-v1
VERSION:2.0
METHOD:PUBLISH
BEGIN:VTIMEZONE
TZID:America/New_York
X-LIC-LOCATION:America/New_York
BEGIN:DAYLIGHT
TZOFFSETFROM:-0500
TZOFFSETTO:-0400
TZNAME:EDT
DTSTART:19700308T020000
RRULE:FREQ=YEARLY;BYMONTH=3;BYDAY=2SU
END:DAYLIGHT
BEGIN:STANDARD
TZOFFSETFROM:-0400
TZOFFSETTO:-0500
TZNAME:EST
DTSTART:19701101T020000
RRULE:FREQ=YEARLY;BYMONTH=11;BYDAY=1SU
END:STANDARD
END:VTIMEZONE
BEGIN:VEVENT
UID:5283893:Event:309678
DTSTAMP:20260419T225745Z
SUMMARY:The 20+ Trainings Required at Your Dealership
DESCRIPTION:Learn the Essential Environment and Safety Training Requir
 ements for Dealerships\nFree Webinar Thursday July 19, 2012, 10:00am M
 ountain Time\nA dealership has many trainings that are required for th
 eir employees, any many additional trainings that are recommended. Lea
 rn which training courses are required for your facility. This webinar
  will analyze the more than 20 trainings required for dealerships, her
 e are just a few:\n\nDOT Hazmat Training\nEmergency Response\nFit Test
 ing\nForklift Safety\nGeneral Slips, Trips, and Falls\nHazardous Waste
  Management\nHeat Illness Prevention\nRespiratory Protection\nSPCC\n\n
 Presented by: Peter Zaidel, Environment & Safety Product Manager, 
 KPA\n\nPeter Zaidel manages KPA’s E&S compliance offerings. He monit
 ors OSHA changes and heads up KPA’s learning management and content 
 development. Peter holds a Bachelor of Science degree in Environmental
  Resource Management and Environmental Engineering from Penn State Uni
 versity.\n\nFor more information visit https://www.dealerelite.net/eve
 nts/the-20-trainings-required-at-your-dealership
DTSTART;TZID=America/New_York:20120719T090000
DTEND;TZID=America/New_York:20120719T100000
CATEGORIES:webinar
LOCATION:http://www.dealerwebinars.com
WEBSITE:http://www.dealerwebinars.com
URL:http://www.dealerwebinars.com
CONTACT:
ORGANIZER;CN="Patric Timmermans":https://www.dealerelite.net/profile/P
 atricTimmermans
ATTACH;FMTTYPE="image/jpeg":http://storage.ning.com/topology/rest/1.0/
 file/get/2632941097?profile=original
ATTENDEE;ROLE=REQ-PARTICIPANT;PARTSTAT=ACCEPTED;RSVP=TRUE;CN="Patric T
 immermans":https://www.dealerelite.net/profile/PatricTimmermans
END:VEVENT
END:VCALENDAR
