BEGIN:VCALENDAR
PRODID:NingEventWidget-v1
VERSION:2.0
METHOD:PUBLISH
BEGIN:VTIMEZONE
TZID:America/New_York
X-LIC-LOCATION:America/New_York
BEGIN:DAYLIGHT
TZOFFSETFROM:-0500
TZOFFSETTO:-0400
TZNAME:EDT
DTSTART:19700308T020000
RRULE:FREQ=YEARLY;BYMONTH=3;BYDAY=2SU
END:DAYLIGHT
BEGIN:STANDARD
TZOFFSETFROM:-0400
TZOFFSETTO:-0500
TZNAME:EST
DTSTART:19701101T020000
RRULE:FREQ=YEARLY;BYMONTH=11;BYDAY=1SU
END:STANDARD
END:VTIMEZONE
BEGIN:VEVENT
UID:5283893:Event:221599
DTSTAMP:20260422T031426Z
SUMMARY:The 7 Parts of Effective Injury and Illness Prevention Plans
DESCRIPTION:The Connection Between Your I2P2 Plan and Action. Presente
 d y Motyka Johnson.\n \nPlans are what actions are built around. This
  plan is your tool to minimize worker exposure to safety and health ha
 zards. We’ll review the seven parts of an effective I2P2 plan, how t
 o control the risks at your facility, and how to make the plan work fo
 r you. Review sample plans, and get ready to custom-build an I2P2 plan
  that fits your dealership or service center.  \n\nFor more informat
 ion visit https://www.dealerelite.net/events/the-7-parts-of-effective-
 injury-and-illness-prevention-plans
DTSTART;TZID=America/New_York:20110922T094500
DTEND;TZID=America/New_York:20110922T110000
CATEGORIES:ehs, webinar
LOCATION:Online Webinar
WEBSITE:http://go.kpaonline.com/LP=76?elqCampaignId=108&ch=KPA
URL:http://go.kpaonline.com/LP=76?elqCampaignId=108&ch=KPA
CONTACT:866-356-1735
ORGANIZER;CN="Brian Torrez":https://www.dealerelite.net/profile/BrianT
 orrez
ATTACH;FMTTYPE="image/jpeg":http://storage.ning.com/topology/rest/1.0/
 file/get/2632920611?profile=original
ATTENDEE;ROLE=REQ-PARTICIPANT;PARTSTAT=ACCEPTED;RSVP=TRUE;CN="Brian To
 rrez":https://www.dealerelite.net/profile/BrianTorrez
END:VEVENT
END:VCALENDAR
