BEGIN:VCALENDAR
PRODID:NingEventWidget-v1
VERSION:2.0
METHOD:PUBLISH
BEGIN:VTIMEZONE
TZID:America/New_York
X-LIC-LOCATION:America/New_York
BEGIN:DAYLIGHT
TZOFFSETFROM:-0500
TZOFFSETTO:-0400
TZNAME:EDT
DTSTART:19700308T020000
RRULE:FREQ=YEARLY;BYMONTH=3;BYDAY=2SU
END:DAYLIGHT
BEGIN:STANDARD
TZOFFSETFROM:-0400
TZOFFSETTO:-0500
TZNAME:EST
DTSTART:19701101T020000
RRULE:FREQ=YEARLY;BYMONTH=11;BYDAY=1SU
END:STANDARD
END:VTIMEZONE
BEGIN:VEVENT
UID:5283893:Event:162919
DTSTAMP:20260421T114252Z
SUMMARY:The Future of HR For Dealerships
DESCRIPTION:Human Resources will play a critical role in the success o
 f dealerships in the next two years. As the economy recovers, dealersh
 ips will be able to once again invest in HR programs. Join KPA's Tamar
 a Lischer, Client Support Advocate, to learn about the key trends and 
 best practices that will be shaping HR programs in the future. Tamara 
 will share key learnings from the National Society of Human Resources 
 Conference (June 26-29) that she attended on behalf of KPA.\n\nFor mor
 e information visit https://www.dealerelite.net/events/the-future-of-h
 r-for
DTSTART;TZID=America/New_York:20110728T094500
DTEND;TZID=America/New_York:20110728T110000
CATEGORIES:hr, webinar
LOCATION:Online Webinar
WEBSITE:http://go.kpaonline.com/LP=52?elqCampaignId=48&ch=kpa
URL:http://go.kpaonline.com/LP=52?elqCampaignId=48&ch=kpa
CONTACT:
ORGANIZER;CN="Brian Torrez":https://www.dealerelite.net/profile/BrianT
 orrez
ATTACH;FMTTYPE="image/jpeg":http://storage.ning.com/topology/rest/1.0/
 file/get/2632918205?profile=original
ATTENDEE;ROLE=REQ-PARTICIPANT;PARTSTAT=ACCEPTED;RSVP=TRUE;CN="Patric T
 immermans":https://www.dealerelite.net/profile/PatricTimmermans
ATTENDEE;ROLE=REQ-PARTICIPANT;PARTSTAT=ACCEPTED;RSVP=TRUE;CN="Brian To
 rrez":https://www.dealerelite.net/profile/BrianTorrez
END:VEVENT
END:VCALENDAR
