BEGIN:VCALENDAR
PRODID:NingEventWidget-v1
VERSION:2.0
METHOD:PUBLISH
BEGIN:VTIMEZONE
TZID:America/New_York
X-LIC-LOCATION:America/New_York
BEGIN:DAYLIGHT
TZOFFSETFROM:-0500
TZOFFSETTO:-0400
TZNAME:EDT
DTSTART:19700308T020000
RRULE:FREQ=YEARLY;BYMONTH=3;BYDAY=2SU
END:DAYLIGHT
BEGIN:STANDARD
TZOFFSETFROM:-0400
TZOFFSETTO:-0500
TZNAME:EST
DTSTART:19701101T020000
RRULE:FREQ=YEARLY;BYMONTH=11;BYDAY=1SU
END:STANDARD
END:VTIMEZONE
BEGIN:VEVENT
UID:5283893:Event:502218
DTSTAMP:20260419T183257Z
SUMMARY:The Internet Sales Performance Summit
DESCRIPTION:As the needs, wants, and demands of consumers continue to 
 change, so should you dealerships techniques, tactics, and strategies.
  Three of the industry’s most well-known thought leaders and tactic
 ians have teamed up to share the latest in process, engagement, and m
 arketing strategies in this first class 1 day event.\nIn addition att
 endees will learn from the companies that are at the forefront of dig
 ital marketing, consumer behavior, talent management, CRM, and socia
 l media.\nThis is a must attend event for any Active Owner, GM, Int
 ernet Manager, BDC Director, Sales Professional, or Digital Marketin
 g Manager looking to ensure a competitive advantage in the marketplac
 e.\n\nFor more information visit https://www.dealerelite.net/events/th
 e-internet-sales-performance-summit-1
DTSTART;TZID=America/New_York:20170719T000000
DTEND;TZID=America/New_York:20170719T235900
CATEGORIES:workshop
LOCATION:The Hilton Irvine/Orange County
WEBSITE:http://internetsalesperformancesummit.com/
URL:http://internetsalesperformancesummit.com/
CONTACT:
ORGANIZER:Cory Mosley, David Kain & Jennifer Suzuki
ATTACH;FMTTYPE="image/jpeg":http://storage.ning.com/topology/rest/1.0/
 file/get/2633061146?profile=original
ATTENDEE;ROLE=REQ-PARTICIPANT;PARTSTAT=ACCEPTED;RSVP=TRUE;CN="Cory Mos
 ley":https://www.dealerelite.net/profile/CoryMosley
END:VEVENT
END:VCALENDAR
