BEGIN:VCALENDAR
PRODID:NingEventWidget-v1
VERSION:2.0
METHOD:PUBLISH
BEGIN:VTIMEZONE
TZID:America/New_York
X-LIC-LOCATION:America/New_York
BEGIN:DAYLIGHT
TZOFFSETFROM:-0500
TZOFFSETTO:-0400
TZNAME:EDT
DTSTART:19700308T020000
RRULE:FREQ=YEARLY;BYMONTH=3;BYDAY=2SU
END:DAYLIGHT
BEGIN:STANDARD
TZOFFSETFROM:-0400
TZOFFSETTO:-0500
TZNAME:EST
DTSTART:19701101T020000
RRULE:FREQ=YEARLY;BYMONTH=11;BYDAY=1SU
END:STANDARD
END:VTIMEZONE
BEGIN:VEVENT
UID:5283893:Event:497887
DTSTAMP:20260422T233421Z
SUMMARY:The Internet Sales Performance Summit
DESCRIPTION:As the needs, wants, and demands of consumers continue to 
 change, so should you dealerships techniques, tactics, and strategies.
  Three of the industry’s most well-known thought leaders and tactic
 ians have teamed up to share the latest in process, engagement, and m
 arketing strategies in this first class 2-day event.\nIn addition to 
 the extended super session hands-on workshops from David, Cory, an
 d Jennifer attendees will learn from the companies that are at the f
 orefront of digital marketing, consumer behavior, talent management, 
 CRM, and social media.\nThis is a must attend event for any Activ
 e Owner, GM, Internet Manager, BDC Director, Sales Professional, orDi
 gital Marketing Manager looking to ensure a competitive advantage in 
 the marketplace.\n\nFor more information visit https://www.dealerelite
 .net/events/the-internet-sales-performance-summit
DTSTART;TZID=America/New_York:20170503T000000
DTEND;TZID=America/New_York:20170504T235900
CATEGORIES:workshop
LOCATION:Seminole Hard Rock Hotel & Casino
WEBSITE:http://internetsalesperformancesummit.com/
URL:http://internetsalesperformancesummit.com/
CONTACT:
ORGANIZER:Cory Mosley, David Kain & Jennifer Suzuki
ATTACH;FMTTYPE="image/jpeg":http://storage.ning.com/topology/rest/1.0/
 file/get/2633031655?profile=original
ATTENDEE;ROLE=REQ-PARTICIPANT;PARTSTAT=ACCEPTED;RSVP=TRUE;CN="Cory Mos
 ley":https://www.dealerelite.net/profile/CoryMosley
END:VEVENT
END:VCALENDAR
