BEGIN:VCALENDAR
PRODID:NingEventWidget-v1
VERSION:2.0
METHOD:PUBLISH
BEGIN:VTIMEZONE
TZID:America/New_York
X-LIC-LOCATION:America/New_York
BEGIN:DAYLIGHT
TZOFFSETFROM:-0500
TZOFFSETTO:-0400
TZNAME:EDT
DTSTART:19700308T020000
RRULE:FREQ=YEARLY;BYMONTH=3;BYDAY=2SU
END:DAYLIGHT
BEGIN:STANDARD
TZOFFSETFROM:-0400
TZOFFSETTO:-0500
TZNAME:EST
DTSTART:19701101T020000
RRULE:FREQ=YEARLY;BYMONTH=11;BYDAY=1SU
END:STANDARD
END:VTIMEZONE
BEGIN:VEVENT
UID:5283893:Event:236481
DTSTAMP:20260419T122755Z
SUMMARY:The Last BDC \"Boot Camp\" for 2011 at Proactive Dealer Soluti
 ons.
DESCRIPTION:Are you sic of training that doesn't move your sales or se
 rvice department forward. Are you ready for real growth and results. P
 roactive dealer Solutions, The BDC experts can help.\n \nWe have been
  training BDC staff, managers and even owners for years and are result
 s speak for themselves.\nMercedes Benz Canada (national chain stores) 
 23% increase in Business in thier service drive\nHendrick Automotive G
 roup (multiple locations) Sales and service growth in all locations we
  work with. Growth ranges depending on location of course.\nTypical sh
 ort term and long term growth of at least 15%.\nLink:http://info.bdcex
 perts.com/join-us-for-the-next-bdc-boot-camp/\nVideo: http://www.youtu
 be.com/watch?v=MJOa8LsLV_8Boot Camp \"Live\"\nAre you looking to turn 
 your team into sales and service masters?\nDon't miss out on the last 
 \"Boot Camp\" of the year.....\nIf you have questions, we can help 1 8
 77 452 2753\nemail: inethercott@bdcexperts.com\nWeb: http://www.bdcexp
 erts.com\n\nFor more information visit https://www.dealerelite.net/eve
 nts/the-last-bdc-boot-camp-for-2011-at-proactive-dealer-solutions
DTSTART;TZID=America/New_York:20111107T180000
DTEND;TZID=America/New_York:20111111T190000
CATEGORIES:bdc, experts, boot, camp
LOCATION:Proactive Dealer Solutions
WEBSITE:http://info.bdcexperts.com/join-us-for-the-next-bdc-boot-camp/
URL:http://info.bdcexperts.com/join-us-for-the-next-bdc-boot-camp/
CONTACT:1 877 452 2753
ORGANIZER;CN="Ian nethercott":https://www.dealerelite.net/profile/Iann
 ethercott
ATTACH;FMTTYPE="image/jpeg":http://storage.ning.com/topology/rest/1.0/
 file/get/2632926941?profile=original
ATTENDEE;ROLE=REQ-PARTICIPANT;PARTSTAT=ACCEPTED;RSVP=TRUE;CN="Ian neth
 ercott":https://www.dealerelite.net/profile/Iannethercott
END:VEVENT
END:VCALENDAR
