BEGIN:VCALENDAR
PRODID:NingEventWidget-v1
VERSION:2.0
METHOD:PUBLISH
BEGIN:VTIMEZONE
TZID:America/New_York
X-LIC-LOCATION:America/New_York
BEGIN:DAYLIGHT
TZOFFSETFROM:-0500
TZOFFSETTO:-0400
TZNAME:EDT
DTSTART:19700308T020000
RRULE:FREQ=YEARLY;BYMONTH=3;BYDAY=2SU
END:DAYLIGHT
BEGIN:STANDARD
TZOFFSETFROM:-0400
TZOFFSETTO:-0500
TZNAME:EST
DTSTART:19701101T020000
RRULE:FREQ=YEARLY;BYMONTH=11;BYDAY=1SU
END:STANDARD
END:VTIMEZONE
BEGIN:VEVENT
UID:5283893:Event:490154
DTSTAMP:20260425T103527Z
SUMMARY:The Only Customer Service Lesson Your Team Will Ever Need!
DESCRIPTION:THE CUSTOMER EXPERIENCE: HOW TO WOW EVERY SINGLE CUSTOMER 
 EVERY SINGLE DAY!\nIn this Undeniable Advantage LIVE Video Webcast you
 'll learn everything you need to know to provide Real Customer Service
  and learn why Real Customer Service means never having to say you're
  sorry. Learn how to control The Customer Experience from end-to-end.\
 nJoin me WEDNESDAY, DECEMBER 21 at 1 PM EASTERN!\nRegister for free: 
 https://app.webinarjam.net/register/27638/51deb40438\n\nRegister for f
 ree: https://app.webinarjam.net/register/27638/51deb40438\n\nFor more
  information visit https://www.dealerelite.net/events/the-only-custome
 r-service-lesson-your-team-will-ever-need
DTSTART;TZID=America/New_York:20161221T130000
DTEND;TZID=America/New_York:20161221T143000
CATEGORIES:free, live, video, webcast
LOCATION:Online - Nationwide
WEBSITE:https://app.webinarjam.net/register/27638/51deb40438
URL:https://app.webinarjam.net/register/27638/51deb40438
CONTACT:
ORGANIZER;CN="Steve Stauning":https://www.dealerelite.net/profile/Stev
 eStauning753
ATTACH;FMTTYPE="image/jpeg":
ATTENDEE;ROLE=REQ-PARTICIPANT;PARTSTAT=ACCEPTED;RSVP=TRUE;CN="Steve St
 auning":https://www.dealerelite.net/profile/SteveStauning753
END:VEVENT
END:VCALENDAR
