BEGIN:VCALENDAR
PRODID:NingEventWidget-v1
VERSION:2.0
METHOD:PUBLISH
BEGIN:VTIMEZONE
TZID:America/New_York
X-LIC-LOCATION:America/New_York
BEGIN:DAYLIGHT
TZOFFSETFROM:-0500
TZOFFSETTO:-0400
TZNAME:EDT
DTSTART:19700308T020000
RRULE:FREQ=YEARLY;BYMONTH=3;BYDAY=2SU
END:DAYLIGHT
BEGIN:STANDARD
TZOFFSETFROM:-0400
TZOFFSETTO:-0500
TZNAME:EST
DTSTART:19701101T020000
RRULE:FREQ=YEARLY;BYMONTH=11;BYDAY=1SU
END:STANDARD
END:VTIMEZONE
BEGIN:VEVENT
UID:5283893:Event:500554
DTSTAMP:20260419T235124Z
SUMMARY:The Perfect Appointment - Live Stream Video Webcast
DESCRIPTION:Steve Stauning is considered the Father of The Appointment
  Culture and automobile dealers employing his Perfect Appointment enjo
 y 80% or better Show Rates and 80% or better Close Rates of shown appo
 intments!\nImagine if 80% or more of your appointments not only showed
  up, but arrived ON TIME and READY TO BUY!\nDon't get left behind!\nIn
  this FREE LIVE VIDEO WEBCAST, Steve will provide your team everything
  they need to know to set and sell REAL APPOINTMENTS that show and buy
 . He'll cover everything from setting appointments with internet leads
  to selling your current owner base - all without adding expensive sof
 tware or changing your CRM!\n REGISTER NOW: https://www.eventbrite.co
 m/e/the-perfect-appointment-tickets-34621519898\nThis event will be br
 oadcast live on Wednesday, July 12, 2017 beginning at 1 PM Eastern / 1
 0 AM Pacific right on our homepage: http://undeniableadvantage.com/\n
 BOOKMARK THAT PAGE NOW and SUBSCRIBE to our YouTube Channel so you nev
 er miss a webcast or new training video: https://www.youtube.com/user
 /SteveStauning\n\nFor more information visit https://www.dealerelite.n
 et/events/the-perfect-appointment-live-stream-video-webcast
DTSTART;TZID=America/New_York:20170712T130000
DTEND;TZID=America/New_York:20170712T140000
CATEGORIES:online, livestream, video, webcast
LOCATION:http://undeniableadvantage.com/
WEBSITE:https://www.eventbrite.com/e/the-perfect-appointment-tickets-3
 4621519898
URL:https://www.eventbrite.com/e/the-perfect-appointment-tickets-34621
 519898
CONTACT:
ORGANIZER:Undeniable Advantage
ATTACH;FMTTYPE="image/jpeg":http://storage.ning.com/topology/rest/1.0/
 file/get/2633032870?profile=original
ATTENDEE;ROLE=REQ-PARTICIPANT;PARTSTAT=ACCEPTED;RSVP=TRUE;CN="Steve St
 auning":https://www.dealerelite.net/profile/SteveStauning753
END:VEVENT
END:VCALENDAR
