BEGIN:VCALENDAR
PRODID:NingEventWidget-v1
VERSION:2.0
METHOD:PUBLISH
BEGIN:VTIMEZONE
TZID:America/New_York
X-LIC-LOCATION:America/New_York
BEGIN:DAYLIGHT
TZOFFSETFROM:-0500
TZOFFSETTO:-0400
TZNAME:EDT
DTSTART:19700308T020000
RRULE:FREQ=YEARLY;BYMONTH=3;BYDAY=2SU
END:DAYLIGHT
BEGIN:STANDARD
TZOFFSETFROM:-0400
TZOFFSETTO:-0500
TZNAME:EST
DTSTART:19701101T020000
RRULE:FREQ=YEARLY;BYMONTH=11;BYDAY=1SU
END:STANDARD
END:VTIMEZONE
BEGIN:VEVENT
UID:5283893:Event:66038
DTSTAMP:20260423T053409Z
SUMMARY:Tips For Writing Effective Online Content
DESCRIPTION:Want to learn to write content that will make your dealers
 hip’s website stand out and also drive up your rankings in search? J
 oin Tim in this FREE webinar workshop on March 10 as he gives tips for
  writing blogs, press releases, and content for websites and landing p
 ages to both call people to action and rank your brand higher in SEO.S
 ign up now for this FREE online workshop! This takes places Thursday, 
 March 10, at 10:57 AM EST and will last about half an hour.\n\nFor mor
 e information visit https://www.dealerelite.net/events/tips-for-writin
 g-effective
DTSTART;TZID=America/New_York:20110310T110000
DTEND;TZID=America/New_York:20110310T113000
CATEGORIES:online, workshop
LOCATION:Online
WEBSITE:http://exclusivelyautomotive.com/tips-for-writing-effective-on
 line-content/
URL:http://exclusivelyautomotive.com/tips-for-writing-effective-online
 -content/
CONTACT:518-631-5505
ORGANIZER;CN="Paul Potratz":https://www.dealerelite.net/profile/PaulPo
 tratz
ATTACH;FMTTYPE="image/jpeg":http://storage.ning.com/topology/rest/1.0/
 file/get/2632917653?profile=original
ATTENDEE;ROLE=REQ-PARTICIPANT;PARTSTAT=ACCEPTED;RSVP=TRUE;CN="Paul Pot
 ratz":https://www.dealerelite.net/profile/PaulPotratz
ATTENDEE;ROLE=REQ-PARTICIPANT;PARTSTAT=TENTATIVE;RSVP=TRUE;CN="Matthew
  Cole":https://www.dealerelite.net/profile/MatthewCole
END:VEVENT
END:VCALENDAR
