BEGIN:VCALENDAR
PRODID:NingEventWidget-v1
VERSION:2.0
METHOD:PUBLISH
BEGIN:VTIMEZONE
TZID:America/New_York
X-LIC-LOCATION:America/New_York
BEGIN:DAYLIGHT
TZOFFSETFROM:-0500
TZOFFSETTO:-0400
TZNAME:EDT
DTSTART:19700308T020000
RRULE:FREQ=YEARLY;BYMONTH=3;BYDAY=2SU
END:DAYLIGHT
BEGIN:STANDARD
TZOFFSETFROM:-0400
TZOFFSETTO:-0500
TZNAME:EST
DTSTART:19701101T020000
RRULE:FREQ=YEARLY;BYMONTH=11;BYDAY=1SU
END:STANDARD
END:VTIMEZONE
BEGIN:VEVENT
UID:5283893:Event:373239
DTSTAMP:20260422T174723Z
SUMMARY:Today's Important Webinar - Beyond the Basics: 5 Myths and 10 
 Rules for Advanced Social Media Mastery
DESCRIPTION:Social media has evolved over the years to the point where
  today, it truly is an incredible advertising platform for those who k
 now how to do it properly. It’s more than branding. \n\n\nFor more 
 information visit https://www.dealerelite.net/events/today-s-important
 -webinar-beyond-the-basics-5-myths-and-10-rules
DTSTART;TZID=America/New_York:20130605T120000
DTEND;TZID=America/New_York:20130605T133000
CATEGORIES:webinar
LOCATION:GotoWebinar
WEBSITE:http://www.dealerwebinars.com/5myths.html
URL:http://www.dealerwebinars.com/5myths.html
CONTACT:
ORGANIZER;CN="Louie Baur":https://www.dealerelite.net/profile/LouieBau
 r
ATTACH;FMTTYPE="image/jpeg":
ATTENDEE;ROLE=REQ-PARTICIPANT;PARTSTAT=ACCEPTED;RSVP=TRUE;CN="Louie Ba
 ur":https://www.dealerelite.net/profile/LouieBaur
END:VEVENT
END:VCALENDAR
