BEGIN:VCALENDAR
PRODID:NingEventWidget-v1
VERSION:2.0
METHOD:PUBLISH
BEGIN:VTIMEZONE
TZID:America/New_York
X-LIC-LOCATION:America/New_York
BEGIN:DAYLIGHT
TZOFFSETFROM:-0500
TZOFFSETTO:-0400
TZNAME:EDT
DTSTART:19700308T020000
RRULE:FREQ=YEARLY;BYMONTH=3;BYDAY=2SU
END:DAYLIGHT
BEGIN:STANDARD
TZOFFSETFROM:-0400
TZOFFSETTO:-0500
TZNAME:EST
DTSTART:19701101T020000
RRULE:FREQ=YEARLY;BYMONTH=11;BYDAY=1SU
END:STANDARD
END:VTIMEZONE
BEGIN:VEVENT
UID:5283893:Event:328966
DTSTAMP:20260422T222732Z
SUMMARY:Uncovering The Future of Online Reputation Management
DESCRIPTION:With major changes in reviews, search, and social over the
  past nine months, your online reputation faces more instability than 
 ever.\nFree Webinar Wednesday October 24, 9am PT/ 10am MT / 11am CT / 
 noon ETÂ \nThe Future of Online Reputation Management neednâ€™t be so 
 uncertain, as this webinar reveals trends and explores new tools that 
 will help you stake your brandâ€™s claim on the internet. Whether itâ€
 ™s the Google Plus Local revolution or the rise of Yelp that has you w
 ondering whatâ€™s next, we can help you ride out the changes to a soli
 d foundation.Â A review of major shifts in online marketing leads to p
 ractices you can instill in your online marketing strategy, and tools 
 you can use to stay current and the best-practices techniques that wil
 l keep you ahead of the game. The Future of Online Reputation Manageme
 nt takes a practical approach to taking ahold of whatâ€™s ahead. Youâ€
 ™ll learn basic activities inspired by elite analysis, such as Instant
  Outreach and Critical Contacts. With a clear vision of where internet
  marketing is racing toward, and methods to get you there ahead of tim
 e, the future of your online reputation will be yours to command\nPres
 ented by:Â MatthewÂ Funk.Â Social Media Marketer,Â KPA\n\nMatthew Funk
  is a Social Media Specialist and writer for KPA. Matthew has directed
  and executed the social media strategy for businesses ranging from in
 ternet start-ups to major corporations and in media from print to 3-D 
 virtual worlds. He is also a moderator of several forums on writing, a
  writing mentor and the author of several fiction and non-fiction piec
 es online. You can find out more about him at www.matthewfunk.net\n\nF
 or more information visit https://www.dealerelite.net/events/uncoverin
 g-the-future-of-online-reputation-management
DTSTART;TZID=America/New_York:20121024T090000
DTEND;TZID=America/New_York:20121024T100000
CATEGORIES:webinar
LOCATION:http://www.dealerwebinars.com/reputation?ch=social
WEBSITE:http://www.dealerwebinars.com/reputation?ch=social
URL:http://www.dealerwebinars.com/reputation?ch=social
CONTACT:
ORGANIZER;CN="Patric Timmermans":https://www.dealerelite.net/profile/P
 atricTimmermans
ATTACH;FMTTYPE="image/jpeg":http://storage.ning.com/topology/rest/1.0/
 file/get/2632941097?profile=original
ATTENDEE;ROLE=REQ-PARTICIPANT;PARTSTAT=ACCEPTED;RSVP=TRUE;CN="Patric T
 immermans":https://www.dealerelite.net/profile/PatricTimmermans
END:VEVENT
END:VCALENDAR
