BEGIN:VCALENDAR
PRODID:NingEventWidget-v1
VERSION:2.0
METHOD:PUBLISH
BEGIN:VTIMEZONE
TZID:America/New_York
X-LIC-LOCATION:America/New_York
BEGIN:DAYLIGHT
TZOFFSETFROM:-0500
TZOFFSETTO:-0400
TZNAME:EDT
DTSTART:19700308T020000
RRULE:FREQ=YEARLY;BYMONTH=3;BYDAY=2SU
END:DAYLIGHT
BEGIN:STANDARD
TZOFFSETFROM:-0400
TZOFFSETTO:-0500
TZNAME:EST
DTSTART:19701101T020000
RRULE:FREQ=YEARLY;BYMONTH=11;BYDAY=1SU
END:STANDARD
END:VTIMEZONE
BEGIN:VEVENT
UID:5283893:Event:303845
DTSTAMP:20260423T131630Z
SUMMARY:Used Car Week
DESCRIPTION:http://usedcarweek.biz\nUsed Car Week: Nov 12-16 at the Ph
 oenician Resort in Scottsdale feature three great used car industry ev
 ents:\nThe Certified Pre-Owned Conference-Presented by AutoTrader.com 
 Nov 12-13 http://cpo.autoremarketing.com\nThe Re3: Repo, Recovery, Rem
 arketing event, Nov 14.  http://re3.autoremarketing.com\nThe National
  Remarketing Conference-Presented by SmartAuction Nov 14-16 http://nrc
 .autoremarketing.com\n\nFor more information visit https://www.dealere
 lite.net/events/used-car-week
DTSTART;TZID=America/New_York:20121112T180000
DTEND;TZID=America/New_York:20121116T190000
CATEGORIES:professional, executive, conference
LOCATION:The Phoenician Resort
WEBSITE:https://www.starwoodmeeting.com/StarGroupsWeb/booking/reservat
 ion?id=1206120821&key=8D66C
URL:https://www.starwoodmeeting.com/StarGroupsWeb/booking/reservation?
 id=1206120821&key=8D66C
CONTACT:800.608.7500 ext. 143
ORGANIZER:Marilu McQuilkin & Bill Zadeits
ATTACH;FMTTYPE="image/jpeg":http://storage.ning.com/topology/rest/1.0/
 file/get/2632958450?profile=original
ATTENDEE;ROLE=REQ-PARTICIPANT;PARTSTAT=ACCEPTED;RSVP=TRUE;CN="Bill Zad
 eits":https://www.dealerelite.net/profile/BillZadeits
END:VEVENT
END:VCALENDAR
