BEGIN:VCALENDAR
PRODID:NingEventWidget-v1
VERSION:2.0
METHOD:PUBLISH
BEGIN:VTIMEZONE
TZID:America/New_York
X-LIC-LOCATION:America/New_York
BEGIN:DAYLIGHT
TZOFFSETFROM:-0500
TZOFFSETTO:-0400
TZNAME:EDT
DTSTART:19700308T020000
RRULE:FREQ=YEARLY;BYMONTH=3;BYDAY=2SU
END:DAYLIGHT
BEGIN:STANDARD
TZOFFSETFROM:-0400
TZOFFSETTO:-0500
TZNAME:EST
DTSTART:19701101T020000
RRULE:FREQ=YEARLY;BYMONTH=11;BYDAY=1SU
END:STANDARD
END:VTIMEZONE
BEGIN:VEVENT
UID:5283893:Event:369757
DTSTAMP:20260422T144453Z
SUMMARY:Used Vehicle Academy - Orange County, CA
DESCRIPTION:\n$1,295/person / 3 @ $1,000 person\n\n\n\n\n\nâ€¢ Measuri
 ng Profitability â€¢ Improve Departmental Profitability â€¢ Advertisin
 g, and Merchandising Ideas â€¢ Technology, Websites and Social Media â
 €¢ Sales Recruitment, Training and Compensation â€¢ Subprime Opportuni
 ties â€¢ Stocking the Right Inventory â€¢ Dollar and Unit Day Supply; 
 30-60 Day Aging â€¢ Stocking Levels: Set Dollar and Unit Levels â€¢ Id
 entifying Fast-Turn, High-Gross Vehicles â€¢ Building Inventory by Des
 ign â€¢ Cost-Effective ReconditioningÂ \n\n\n\n\nFor more information 
 visit https://www.dealerelite.net/events/used-vehicle-academy-orange-c
 ounty-ca
DTSTART;TZID=America/New_York:20130611T000000
DTEND;TZID=America/New_York:20130612T235900
CATEGORIES:training
LOCATION:Orange County, CA
WEBSITE:http://twentygroups.com/registernow
URL:http://twentygroups.com/registernow
CONTACT:941.371.7999
ORGANIZER;CN="Jay Prassel":https://www.dealerelite.net/profile/JayPras
 sel
ATTACH;FMTTYPE="image/jpeg":http://storage.ning.com/topology/rest/1.0/
 file/get/2632973707?profile=original
ATTENDEE;ROLE=REQ-PARTICIPANT;PARTSTAT=ACCEPTED;RSVP=TRUE;CN="Jay Pras
 sel":https://www.dealerelite.net/profile/JayPrassel
END:VEVENT
END:VCALENDAR
