BEGIN:VCALENDAR
PRODID:NingEventWidget-v1
VERSION:2.0
METHOD:PUBLISH
BEGIN:VTIMEZONE
TZID:America/New_York
X-LIC-LOCATION:America/New_York
BEGIN:DAYLIGHT
TZOFFSETFROM:-0500
TZOFFSETTO:-0400
TZNAME:EDT
DTSTART:19700308T020000
RRULE:FREQ=YEARLY;BYMONTH=3;BYDAY=2SU
END:DAYLIGHT
BEGIN:STANDARD
TZOFFSETFROM:-0400
TZOFFSETTO:-0500
TZNAME:EST
DTSTART:19701101T020000
RRULE:FREQ=YEARLY;BYMONTH=11;BYDAY=1SU
END:STANDARD
END:VTIMEZONE
BEGIN:VEVENT
UID:5283893:Event:235033
DTSTAMP:20260419T104105Z
SUMMARY:Used Vehicle Management Training
DESCRIPTION:Are YOUR managers trained to capitalize on the changing Us
 ed Vehicle Business? Are YOU “netting”all that you should be in th
 is critical Operating Department?\nIf you answered “no” to either 
 of these questions, consider enrolling in one (or both) of the Novembe
 r classes in Used Vehicle Management, offered and presented by NCMInst
 itute. For details, call Brandiss Warren or Kara Lambertus at (866) 75
 6-2620.\nClick Here for Details\n\nFor more information visit https://
 www.dealerelite.net/events/used-vehicle-management-training
DTSTART;TZID=America/New_York:20111107T200000
DTEND;TZID=America/New_York:20111111T120000
CATEGORIES:training
LOCATION:NCM Headquarters
WEBSITE:
URL:
CONTACT:
ORGANIZER:Dennis Gregg
ATTACH;FMTTYPE="image/jpeg":http://storage.ning.com/topology/rest/1.0/
 file/get/2632924944?profile=original
ATTENDEE;ROLE=REQ-PARTICIPANT;PARTSTAT=ACCEPTED;RSVP=TRUE;CN="Garry Ho
 use":https://www.dealerelite.net/profile/GarryHouse
END:VEVENT
END:VCALENDAR
