BEGIN:VCALENDAR
PRODID:NingEventWidget-v1
VERSION:2.0
METHOD:PUBLISH
BEGIN:VTIMEZONE
TZID:America/New_York
X-LIC-LOCATION:America/New_York
BEGIN:DAYLIGHT
TZOFFSETFROM:-0500
TZOFFSETTO:-0400
TZNAME:EDT
DTSTART:19700308T020000
RRULE:FREQ=YEARLY;BYMONTH=3;BYDAY=2SU
END:DAYLIGHT
BEGIN:STANDARD
TZOFFSETFROM:-0400
TZOFFSETTO:-0500
TZNAME:EST
DTSTART:19701101T020000
RRULE:FREQ=YEARLY;BYMONTH=11;BYDAY=1SU
END:STANDARD
END:VTIMEZONE
BEGIN:VEVENT
UID:5283893:Event:226010
DTSTAMP:20260419T234858Z
SUMMARY:#VinBashAtDD11 | Presented by VinSolutions.com
DESCRIPTION:Join VinSolutions at King Ink in the Mirage in Las Vegas d
 uring the 11th Digital Dealer conference. More info at booth #709 at 
 Digital Dealer. Stop by the booth and look for special VIP passes.\n 
 \n \n\n\n\nFor more information visit https://www.dealerelite.net/eve
 nts/vinbashatdd11-presented-by-vinsolutions-com
DTSTART;TZID=America/New_York:20111005T193000
DTEND;TZID=America/New_York:20111006T000000
CATEGORIES:a, celebration, for, all, dealers, going, to, digital, deal
 er, 11, in, las, vegas
LOCATION:King Ink at the Mirage in Las Vegas
WEBSITE:
URL:
CONTACT:
ORGANIZER;CN="Joseph Little":https://www.dealerelite.net/profile/Josep
 hLittle
ATTACH;FMTTYPE="image/jpeg":http://storage.ning.com/topology/rest/1.0/
 file/get/2632925741?profile=original
ATTENDEE;ROLE=REQ-PARTICIPANT;PARTSTAT=ACCEPTED;RSVP=TRUE;CN="Stan She
 r":https://www.dealerelite.net/profile/StanSher83
ATTENDEE;ROLE=REQ-PARTICIPANT;PARTSTAT=ACCEPTED;RSVP=TRUE;CN="Ric McCo
 y":https://www.dealerelite.net/profile/RicMcCoy
ATTENDEE;ROLE=REQ-PARTICIPANT;PARTSTAT=ACCEPTED;RSVP=TRUE;CN="Joseph L
 ittle":https://www.dealerelite.net/profile/JosephLittle
END:VEVENT
END:VCALENDAR
