BEGIN:VCALENDAR
PRODID:NingEventWidget-v1
VERSION:2.0
METHOD:PUBLISH
BEGIN:VTIMEZONE
TZID:America/New_York
X-LIC-LOCATION:America/New_York
BEGIN:DAYLIGHT
TZOFFSETFROM:-0500
TZOFFSETTO:-0400
TZNAME:EDT
DTSTART:19700308T020000
RRULE:FREQ=YEARLY;BYMONTH=3;BYDAY=2SU
END:DAYLIGHT
BEGIN:STANDARD
TZOFFSETFROM:-0400
TZOFFSETTO:-0500
TZNAME:EST
DTSTART:19701101T020000
RRULE:FREQ=YEARLY;BYMONTH=11;BYDAY=1SU
END:STANDARD
END:VTIMEZONE
BEGIN:VEVENT
UID:5283893:Event:304926
DTSTAMP:20260419T191919Z
SUMMARY:Webinar: OSHA & EPA Regulatory Visits On The Rise For Kansas D
 ealers
DESCRIPTION:Are you Prepared? Learn what to do when a regulator knocks
 .\nKansas Dealers have been visited by the Kansas Department of Health
  & Environment (KDHE) at an alarmingly high rate over the past 2-years
 . OSHA & the DOT have also stepped up their activity at Dealers. Is yo
 ur Dealership prepared? Do you know how to handle a regulatory inspect
 ion? This free webinar will discuss what is required and how to handle
  a regulatory visit when an inspector knocks on your door. As an endor
 sed partner of KADA for over 10 years, KPA works directly with over 50
  Dealers in Kansas.\nPresented by: Craig Downey, Senior Account Exe
 cutive, KPA.\n\nCraig Downey has worked for KPA since 1998 as both an
  Engineer and Account Executive. He has an Environmental Engineering d
 egree from Montana Tech of the University of Montana.\n\nFor more info
 rmation visit https://www.dealerelite.net/events/webinar-osha-epa-regu
 latory-visits-on-the-rise-for-kansas-dealers
DTSTART;TZID=America/New_York:20120717T100000
DTEND;TZID=America/New_York:20120717T110000
CATEGORIES:webinar
LOCATION:http://www.dealerwebinars.com/ksvisit.html
WEBSITE:http://www.dealerwebinars.com/ksvisit.html
URL:http://www.dealerwebinars.com/ksvisit.html
CONTACT:
ORGANIZER;CN="Patric Timmermans":https://www.dealerelite.net/profile/P
 atricTimmermans
ATTACH;FMTTYPE="image/jpeg":http://storage.ning.com/topology/rest/1.0/
 file/get/2632941097?profile=original
ATTENDEE;ROLE=REQ-PARTICIPANT;PARTSTAT=ACCEPTED;RSVP=TRUE;CN="Patric T
 immermans":https://www.dealerelite.net/profile/PatricTimmermans
END:VEVENT
END:VCALENDAR
