BEGIN:VCALENDAR
PRODID:NingEventWidget-v1
VERSION:2.0
METHOD:PUBLISH
BEGIN:VTIMEZONE
TZID:America/New_York
X-LIC-LOCATION:America/New_York
BEGIN:DAYLIGHT
TZOFFSETFROM:-0500
TZOFFSETTO:-0400
TZNAME:EDT
DTSTART:19700308T020000
RRULE:FREQ=YEARLY;BYMONTH=3;BYDAY=2SU
END:DAYLIGHT
BEGIN:STANDARD
TZOFFSETFROM:-0400
TZOFFSETTO:-0500
TZNAME:EST
DTSTART:19701101T020000
RRULE:FREQ=YEARLY;BYMONTH=11;BYDAY=1SU
END:STANDARD
END:VTIMEZONE
BEGIN:VEVENT
UID:5283893:Event:495956
DTSTAMP:20260423T234032Z
SUMMARY:Webinar: Recipe for Success (Tactical Advice for Growth in a F
 lat or Down Market)
DESCRIPTION:Please join AutoHook president, David Metter along with th
 e masterminds behind String Automotive, Kain Automotive, and ActivEnga
 ge for a rare webinar opportunity this Weds, March 8th @ 2 PM EST. Det
 ails are below.Â Register Here!\nRECIPE FOR SUCCESS\nTactical Advice f
 or Growth in a Flat or Down Market\nWednesday, March 8th, 20172:00 PM 
 EST / 11AM PSTOnly the lucky ones get to attend webinars like these. D
 onâ€™t miss this rare opportunity to engage with the 4 marketing power
 houses with the SECRET SAUCE for digital success. AutoHook President,Â
  David MetterÂ will be joined byÂ David KainÂ (President, Kain Automot
 ive),Â Todd SmithÂ (Founder, ActivEngage) andÂ Ken KolodziejÂ (Founder
 , String Automotive) to bring you tactical advice for growth in a flat
  or down market during this free, one-hour webinar + Q&A.Learn from th
 e industryâ€™s masters of automotive data, sales process, conversion, 
 and engagement measurement. Straight talk. Serious strategies.Â Join u
 s on Wednesday, March 8th at 2:00 PM EST for this rare webinar event!Â
  \nWebinar space is limited. Register now to reserve your spot!Â REGIS
 TER HERE\n\nFor more information visit https://www.dealerelite.net/eve
 nts/webinar-recipe-for-success-tactical-advice-for-growth-in-a-flat
DTSTART;TZID=America/New_York:20170308T140000
DTEND;TZID=America/New_York:20170308T150000
CATEGORIES:free, webinar
LOCATION:https://attendee.gotowebinar.com/register/8379488447005868803
 ?utm_source=AUTOHOOK+CONTACTS&utm_campaign=1370dad0c7-EMAIL_CAMPAIGN_2
 017_02_07&utm_medium=email&utm_term=0_696bab99b9-1370dad0c7-
WEBSITE:https://attendee.gotowebinar.com/register/8379488447005868803?
 utm_source=AUTOHOOK+CONTACTS&utm_campaign=1370dad0c7-EMAIL_CAMPAIGN_20
 17_02_07&utm_medium=email&utm_term=0_696bab99b9-1370dad0c7-
URL:https://attendee.gotowebinar.com/register/8379488447005868803?utm_
 source=AUTOHOOK+CONTACTS&utm_campaign=1370dad0c7-EMAIL_CAMPAIGN_2017_0
 2_07&utm_medium=email&utm_term=0_696bab99b9-1370dad0c7-
CONTACT:
ORGANIZER:AutoHook powered by Urban Science
ATTACH;FMTTYPE="image/jpeg":http://storage.ning.com/topology/rest/1.0/
 file/get/2633030101?profile=original
ATTENDEE;ROLE=REQ-PARTICIPANT;PARTSTAT=ACCEPTED;RSVP=TRUE;CN="David Me
 tter":https://www.dealerelite.net/profile/DavidMetter822
END:VEVENT
END:VCALENDAR
