BEGIN:VCALENDAR
PRODID:NingEventWidget-v1
VERSION:2.0
METHOD:PUBLISH
BEGIN:VTIMEZONE
TZID:America/New_York
X-LIC-LOCATION:America/New_York
BEGIN:DAYLIGHT
TZOFFSETFROM:-0500
TZOFFSETTO:-0400
TZNAME:EDT
DTSTART:19700308T020000
RRULE:FREQ=YEARLY;BYMONTH=3;BYDAY=2SU
END:DAYLIGHT
BEGIN:STANDARD
TZOFFSETFROM:-0400
TZOFFSETTO:-0500
TZNAME:EST
DTSTART:19701101T020000
RRULE:FREQ=YEARLY;BYMONTH=11;BYDAY=1SU
END:STANDARD
END:VTIMEZONE
BEGIN:VEVENT
UID:5283893:Event:306853
DTSTAMP:20260419T120711Z
SUMMARY:What Dealers Must Know about Immigration Control and Enforceme
 nt (ICE), I-9s and E-Verify
DESCRIPTION:Employers have a responsibility to assist with immigration
  control and more and more states are mandating the use of E-Verify. W
 ould you know what to do if your company was audited by ICE or receive
 d a “no match letter”? In this webinar Tamara Lischer will discuss
  the tools and processes necessary to have compliant hiring practices 
 and to ensure compliance with immigration regulations.   Learn:\n\nWh
 en and how to properly complete the I-9 Form\nIf and When to question 
 employee documents\nAdvantages of using e-Verify\nHow to respond if yo
 u receive a No Match letter\nAvoiding the most common immigration bias
  claims\n\n \nWebinar Thursday July 12, 2012, 10:00am Mountain Time\n
  \nPresented by: Tamara Lischer, Client Advocate, HR Products, KP
 A.\n\nTamara Lischer, HR Products Client Advocate, is a certified HR p
 rofessional with a degree in Human Resources from the University of Co
 lorado. Tamara has worked as an HR consultant assisting client in impl
 ementing best practices and HR compliance programs.\n\nFor more inform
 ation visit https://www.dealerelite.net/events/what-employers-must-kno
 w-about-immigration-control-and
DTSTART;TZID=America/New_York:20120712T090000
DTEND;TZID=America/New_York:20120712T100000
CATEGORIES:webinar
LOCATION:http://www.dealerwebinars.com
WEBSITE:http://www.dealerwebinars.com
URL:http://www.dealerwebinars.com
CONTACT:
ORGANIZER;CN="Patric Timmermans":https://www.dealerelite.net/profile/P
 atricTimmermans
ATTACH;FMTTYPE="image/jpeg":http://storage.ning.com/topology/rest/1.0/
 file/get/2632941097?profile=original
ATTENDEE;ROLE=REQ-PARTICIPANT;PARTSTAT=ACCEPTED;RSVP=TRUE;CN="Patric T
 immermans":https://www.dealerelite.net/profile/PatricTimmermans
END:VEVENT
END:VCALENDAR
