BEGIN:VCALENDAR
PRODID:NingEventWidget-v1
VERSION:2.0
METHOD:PUBLISH
BEGIN:VTIMEZONE
TZID:America/New_York
X-LIC-LOCATION:America/New_York
BEGIN:DAYLIGHT
TZOFFSETFROM:-0500
TZOFFSETTO:-0400
TZNAME:EDT
DTSTART:19700308T020000
RRULE:FREQ=YEARLY;BYMONTH=3;BYDAY=2SU
END:DAYLIGHT
BEGIN:STANDARD
TZOFFSETFROM:-0400
TZOFFSETTO:-0500
TZNAME:EST
DTSTART:19701101T020000
RRULE:FREQ=YEARLY;BYMONTH=11;BYDAY=1SU
END:STANDARD
END:VTIMEZONE
BEGIN:VEVENT
UID:5283893:Event:64157
DTSTAMP:20260423T053414Z
SUMMARY:Why Pay for Reputation Management when you don't have to
DESCRIPTION:For most dealers and small businesses online reputation ma
 nagement seems hard and confusing. There are many systems popping up t
 hat will monitor the web for your reputation and dealers are buying th
 ese tools and getting very little value from them. Not because the too
 ls are bad but more because Reputation Management isn’t a platform i
 t’s a way of doing business, the tools can’t and won’t do the wo
 rk for you and just knowing what people are saying is the smallest par
 t of the battle.\nOnline Reputation isn’t reactive it’s proactive 
 and the tools to gain influence and monitor your reputation don't have
  to cost you money they are predominantly free.\nThere 10 Free tools w
 hen used together can do the following to help manage your online repu
 tation, get more friends and followers on Facebook and twitter in an h
 our a day:\n\nAutomatically search all blogs, the web and twitter ever
 y day for any posts or tweets about your dealership, your OEM brand & 
 models and your local market to engage and connect people that are int
 erested.\nAutomatically search the web, blogs and social in real time 
 for mentions of your dealership or brand and engage those people to co
 nnect and inform.\nCheck the status of dealerships reputation on the w
 eb and on social, including:\nStrength of your message\nSentiment of i
 nternet users to your brand\nPassion of your social media presence\nRe
 ach of your Influence\nSearch twitter locally to gain local followers 
 and influencers.\nSet up a listening and engagement command center in 
 one free tool\n\n\n\nBonus Tools to gain influence and connect with in
 fluential social media customers\n\nHow far did your tweets reach and 
 how often was it re-tweeted\nTrack links in Twitter, Facebook and emai
 l\nSearch Facebook for comments and posts about your dealership even w
 ith people that are not your friends\nWho you are following on twitter
  that isn’t following you back\nWho is following you on twitter that
  you don't want to be following you and you don't want to follow.\n\nR
 egister now for this webinar, save thousands you don't need to be spen
 ding to manage your reputation online and gain influence. You’ll be 
 up and running by the end of the webinar hour.\n\nFor more information
  visit https://www.dealerelite.net/events/why-pay-for-reputation
DTSTART;TZID=America/New_York:20110317T110000
DTEND;TZID=America/New_York:20110317T120000
CATEGORIES:webinar
LOCATION:Online
WEBSITE:
URL:
CONTACT:
ORGANIZER;CN="Larry Bruce":https://www.dealerelite.net/profile/LarryBr
 uce
ATTACH;FMTTYPE="image/jpeg":http://storage.ning.com/topology/rest/1.0/
 file/get/2632961430?profile=original
ATTENDEE;ROLE=REQ-PARTICIPANT;PARTSTAT=ACCEPTED;RSVP=TRUE;CN="aaron ko
 minsky":https://www.dealerelite.net/profile/aaronkominsky
ATTENDEE;ROLE=REQ-PARTICIPANT;PARTSTAT=ACCEPTED;RSVP=TRUE;CN="Larry Br
 uce":https://www.dealerelite.net/profile/LarryBruce
END:VEVENT
END:VCALENDAR
