BEGIN:VCALENDAR
PRODID:NingEventWidget-v1
VERSION:2.0
METHOD:PUBLISH
BEGIN:VTIMEZONE
TZID:America/New_York
X-LIC-LOCATION:America/New_York
BEGIN:DAYLIGHT
TZOFFSETFROM:-0500
TZOFFSETTO:-0400
TZNAME:EDT
DTSTART:19700308T020000
RRULE:FREQ=YEARLY;BYMONTH=3;BYDAY=2SU
END:DAYLIGHT
BEGIN:STANDARD
TZOFFSETFROM:-0400
TZOFFSETTO:-0500
TZNAME:EST
DTSTART:19701101T020000
RRULE:FREQ=YEARLY;BYMONTH=11;BYDAY=1SU
END:STANDARD
END:VTIMEZONE
BEGIN:VEVENT
UID:5283893:Event:503049
DTSTAMP:20260420T014100Z
SUMMARY:Women in Automotive Conference
DESCRIPTION:Come join many top automotive men and women for this outs
 tanding event.  I will be sharing a lot of critical information in my
  9:55 session on Monday morning.  \n\nhttp://womeninautomotive.com/wi
 a-event/women-in-automotive-conference-july-2017/\n\nFor more informat
 ion visit https://www.dealerelite.net/events/women-in-automotive-confe
 rence
DTSTART;TZID=America/New_York:20170709T000000
DTEND;TZID=America/New_York:20170711T235900
CATEGORIES:convention
LOCATION:Omni Resort Orlando Florida
WEBSITE:
URL:
CONTACT:
ORGANIZER;CN="Sally Whitesell":https://www.dealerelite.net/profile/Sal
 lyWhitesell
ATTACH;FMTTYPE="image/jpeg":
ATTENDEE;ROLE=REQ-PARTICIPANT;PARTSTAT=ACCEPTED;RSVP=TRUE;CN="Sally Wh
 itesell":https://www.dealerelite.net/profile/SallyWhitesell
END:VEVENT
END:VCALENDAR
