BEGIN:VCALENDAR
PRODID:NingEventWidget-v1
VERSION:2.0
METHOD:PUBLISH
BEGIN:VTIMEZONE
TZID:America/New_York
X-LIC-LOCATION:America/New_York
BEGIN:DAYLIGHT
TZOFFSETFROM:-0500
TZOFFSETTO:-0400
TZNAME:EDT
DTSTART:19700308T020000
RRULE:FREQ=YEARLY;BYMONTH=3;BYDAY=2SU
END:DAYLIGHT
BEGIN:STANDARD
TZOFFSETFROM:-0400
TZOFFSETTO:-0500
TZNAME:EST
DTSTART:19701101T020000
RRULE:FREQ=YEARLY;BYMONTH=11;BYDAY=1SU
END:STANDARD
END:VTIMEZONE
BEGIN:VEVENT
UID:5283893:Event:210220
DTSTAMP:20260419T221636Z
SUMMARY:Workshop: Creating a Dealership Social Media Policy With Teeth
DESCRIPTION:\nMillions of people now have social media accounts, and d
 ealership personnel are certainly among them. Chances are that they're
  interacting with customers, friends, relatives, coworkers, and the wo
 rld at large about their work and your business. It makes sense to com
 e up with a social media policy that's both practical and legally defe
 nsible. In this workshop, Jim Radogna, President of Dealer Compliance 
 Consultants, will discuss ...how to avoid the legal risks associated w
 ith improper social media use and establish clear guidelines to help e
 mployees understand ways they can use social media to help achieve bus
 iness goals. Topics include:• Acceptable employee uses of social med
 ia• Social media use in employment decisions• Potential harassment
  or defamation claims• Privacy and copyright concerns• Posting of 
 reviews, endorsements, and testimonials• Compensation issues with on
 line reviews• Advertising on social media sites• Best practices fo
 r maintaining and enforcing your social media policy• Best practices
  for creating an overall atmosphere of ethical, transparent disclosure
 .• Practical tips on creating a social media policy that best fits y
 our organization's specific needs and operations.See More\n\n\n\n\n\n\
 n\n\n\n\n\n\n\nFor more information visit https://www.dealerelite.net/
 events/workshop-creating-a-dealership-social-media-policy-with-teeth
DTSTART;TZID=America/New_York:20111007T110000
DTEND;TZID=America/New_York:20111007T120000
CATEGORIES:workshop, at, 11th, digital, dealer, conference, "&", expos
 ition
LOCATION:Mirage Hotel
WEBSITE:
URL:
CONTACT:
ORGANIZER;CN="Jim Radogna":https://www.dealerelite.net/profile/JimRado
 gna
ATTACH;FMTTYPE="image/jpeg":http://storage.ning.com/topology/rest/1.0/
 file/get/2632919678?profile=original
ATTENDEE;ROLE=REQ-PARTICIPANT;PARTSTAT=ACCEPTED;RSVP=TRUE;CN="Jim Rado
 gna":https://www.dealerelite.net/profile/JimRadogna
END:VEVENT
END:VCALENDAR
