BEGIN:VCALENDAR
PRODID:NingEventWidget-v1
VERSION:2.0
METHOD:PUBLISH
BEGIN:VTIMEZONE
TZID:America/New_York
X-LIC-LOCATION:America/New_York
BEGIN:DAYLIGHT
TZOFFSETFROM:-0500
TZOFFSETTO:-0400
TZNAME:EDT
DTSTART:19700308T020000
RRULE:FREQ=YEARLY;BYMONTH=3;BYDAY=2SU
END:DAYLIGHT
BEGIN:STANDARD
TZOFFSETFROM:-0400
TZOFFSETTO:-0500
TZNAME:EST
DTSTART:19701101T020000
RRULE:FREQ=YEARLY;BYMONTH=11;BYDAY=1SU
END:STANDARD
END:VTIMEZONE
BEGIN:VEVENT
UID:5283893:Event:326526
DTSTAMP:20260423T053234Z
SUMMARY:Yuck! Housekeeping Regulations for Dealers that You Just Have 
 to Know
DESCRIPTION:The little things that dealerships always forget and step 
 into that turn into big fines.\nFree webinar Thursday October 11, 9am 
 PT / 10am MT / 11am CT / noon ET\nKeeping a clean dealership free from
  hazards may seem like common sense, but there are many regulations th
 at must be complied with in general Dealership Housekeeping. Small det
 ails in housekeeping can add up to very large fines for your dealershi
 p. The overall feeling that a regulator gets when they step into your 
 facility will set the stage for the rest of their compliance visit. Le
 arn how to make this first impression a good one. Above and beyond al
 l of the compliance needs, having a well-kept dealership will also hel
 p you leave a positive lasting impression with your customers. So don
 t “Sweep It Under the Rug” and join this webinar to learn how to
  stay compliant at your facility.\nPresented by: Amanda Rawls, Team
  Leader, KPA\n\nAmanda is KPA’s South Central Team Leader based out
  of Austin Texas. Amanda came to KPA in May of 2008. She specializes i
 n compliance procedures and serves as a Project Group Leader for vario
 us large and small auto groups. Prior to KPA, Amanda earned a Master o
 f Environmental Management (MEM) and a BS degree in Environmental Scie
 nce from Texas Christian University. She has worked as an Environmenta
 l Consultant for five years including emergency disaster response foll
 owing Hurricane Katrina in New Orleans, Louisiana.\n\nFor more informa
 tion visit https://www.dealerelite.net/events/yuck-housekeeping-regula
 tions-for-dealers-that-you-just-have-to
DTSTART;TZID=America/New_York:20121011T090000
DTEND;TZID=America/New_York:20121011T100000
CATEGORIES:webinar
LOCATION:http://www.dealerwebinars.com/housekeeping.html?ch=channel
WEBSITE:http://www.dealerwebinars.com/housekeeping.html?ch=channel
URL:http://www.dealerwebinars.com/housekeeping.html?ch=channel
CONTACT:
ORGANIZER;CN="Patric Timmermans":https://www.dealerelite.net/profile/P
 atricTimmermans
ATTACH;FMTTYPE="image/jpeg":http://storage.ning.com/topology/rest/1.0/
 file/get/2632941097?profile=original
ATTENDEE;ROLE=REQ-PARTICIPANT;PARTSTAT=ACCEPTED;RSVP=TRUE;CN="Patric T
 immermans":https://www.dealerelite.net/profile/PatricTimmermans
ATTENDEE;ROLE=REQ-PARTICIPANT;PARTSTAT=TENTATIVE;RSVP=TRUE;CN="Robert 
 Harington":https://www.dealerelite.net/profile/RobertHarington
END:VEVENT
END:VCALENDAR
